BEGIN:VCALENDAR
VERSION:2.0
PRODID:-//Hightower Trail District - ECPv6.15.20//NONSGML v1.0//EN
CALSCALE:GREGORIAN
METHOD:PUBLISH
X-ORIGINAL-URL:https://hightowertrailbsa.com
X-WR-CALDESC:Events for Hightower Trail District
REFRESH-INTERVAL;VALUE=DURATION:PT1H
X-Robots-Tag:noindex
X-PUBLISHED-TTL:PT1H
BEGIN:VTIMEZONE
TZID:America/New_York
BEGIN:DAYLIGHT
TZOFFSETFROM:-0500
TZOFFSETTO:-0400
TZNAME:EDT
DTSTART:20220313T070000
END:DAYLIGHT
BEGIN:STANDARD
TZOFFSETFROM:-0400
TZOFFSETTO:-0500
TZNAME:EST
DTSTART:20221106T060000
END:STANDARD
BEGIN:DAYLIGHT
TZOFFSETFROM:-0500
TZOFFSETTO:-0400
TZNAME:EDT
DTSTART:20230312T070000
END:DAYLIGHT
BEGIN:STANDARD
TZOFFSETFROM:-0400
TZOFFSETTO:-0500
TZNAME:EST
DTSTART:20231105T060000
END:STANDARD
BEGIN:DAYLIGHT
TZOFFSETFROM:-0500
TZOFFSETTO:-0400
TZNAME:EDT
DTSTART:20240310T070000
END:DAYLIGHT
BEGIN:STANDARD
TZOFFSETFROM:-0400
TZOFFSETTO:-0500
TZNAME:EST
DTSTART:20241103T060000
END:STANDARD
END:VTIMEZONE
BEGIN:VEVENT
DTSTART;TZID=America/New_York:20231104T130000
DTEND;TZID=America/New_York:20231104T190000
DTSTAMP:20260419T163909
CREATED:20231018T034546Z
LAST-MODIFIED:20231018T034547Z
UID:1512-1699102800-1699124400@hightowertrailbsa.com
SUMMARY:2023 - Catholic Scouting Reflective Hike
DESCRIPTION:Explore the connection between faith and nature on a 5-mile reflective hike on the Diamond J Trail at Bert Adams Scout Camp.\nFulfills Ad Altare Dei requirement for a retreat or day of reflection and Second Class rank hike requirement. \nSchedule\n1:00 – 1:30 pm   Arrival and Check In\n1:30 – 5:00 pm   Five Mile Hike\n5:30 pm               Vigil Mass\n6:00 pm              Dinner and Closing \nWhat to Bring\n\nCompleted BSA Medical Forms A and B\nDay pack with the 10 Essentials\, including at least 1 liter of water2023 Reflective Hike Flyer\nDress for the weather\n\nRegistration fee of $10 includes hike\, Mass\, dinner\, and commemorative patch.\n \n2023 Reflective Hike Flyer
URL:https://hightowertrailbsa.com/event/2023-catholic-scouting-reflective-hike/
LOCATION:Bert Adams Scout Camp\, 218 Scout Rd\, Covington\, GA\, 30016\, United States
CATEGORIES:Bert Adams
ATTACH;FMTTYPE=image/png:https://hightowertrailbsa.com/wp-content/uploads/2023/10/Catholic-Committee-on-Scouting-Archdiocese-of-Atlanta.png
END:VEVENT
END:VCALENDAR