BEGIN:VCALENDAR
VERSION:2.0
PRODID:-//Hightower Trail District - ECPv6.15.20//NONSGML v1.0//EN
CALSCALE:GREGORIAN
METHOD:PUBLISH
X-ORIGINAL-URL:https://hightowertrailbsa.com
X-WR-CALDESC:Events for Hightower Trail District
REFRESH-INTERVAL;VALUE=DURATION:PT1H
X-Robots-Tag:noindex
X-PUBLISHED-TTL:PT1H
BEGIN:VTIMEZONE
TZID:America/New_York
BEGIN:DAYLIGHT
TZOFFSETFROM:-0500
TZOFFSETTO:-0400
TZNAME:EDT
DTSTART:20230312T070000
END:DAYLIGHT
BEGIN:STANDARD
TZOFFSETFROM:-0400
TZOFFSETTO:-0500
TZNAME:EST
DTSTART:20231105T060000
END:STANDARD
BEGIN:DAYLIGHT
TZOFFSETFROM:-0500
TZOFFSETTO:-0400
TZNAME:EDT
DTSTART:20240310T070000
END:DAYLIGHT
BEGIN:STANDARD
TZOFFSETFROM:-0400
TZOFFSETTO:-0500
TZNAME:EST
DTSTART:20241103T060000
END:STANDARD
BEGIN:DAYLIGHT
TZOFFSETFROM:-0500
TZOFFSETTO:-0400
TZNAME:EDT
DTSTART:20250309T070000
END:DAYLIGHT
BEGIN:STANDARD
TZOFFSETFROM:-0400
TZOFFSETTO:-0500
TZNAME:EST
DTSTART:20251102T060000
END:STANDARD
END:VTIMEZONE
BEGIN:VEVENT
DTSTART;TZID=America/New_York:20240112T120000
DTEND;TZID=America/New_York:20240114T120000
DTSTAMP:20260419T122846
CREATED:20230816T171756Z
LAST-MODIFIED:20230824T153623Z
UID:1470-1705060800-1705233600@hightowertrailbsa.com
SUMMARY:2023 - Scouters Winter Campout (SWC)
DESCRIPTION:Scouters Winter Campout (SWC) is where the Leaders of Packs/Troops/Crews/Ships get to experience what our Scouts BSA in their Patrols do at Camporees. You get to be the “Scout”. Set up a Patrol of 8-10 adults\, create a Patrol Name\, Flag & Cheer in sync with this year’s “The Magic in Scouting” theme. You’ll participate in games\, competitions\, and more. You will be part of a 56-year tradition in the Atlanta Area Council. Don’t miss out on the comradery and fun! \nCost: $25 I Late Cost (Starts 12/2/23) $30 \nRegistration Opens September 1\, 2023
URL:https://hightowertrailbsa.com/event/2023-scouters-winter-campout-swc/
LOCATION:Woodruff Scout Camp\, 31 Woodruff Drive\, Blairsville\, GA\, 30512\, United States
END:VEVENT
END:VCALENDAR