BEGIN:VCALENDAR
VERSION:2.0
PRODID:-//Hightower Trail District - ECPv6.15.20//NONSGML v1.0//EN
CALSCALE:GREGORIAN
METHOD:PUBLISH
X-WR-CALNAME:Hightower Trail District
X-ORIGINAL-URL:https://hightowertrailbsa.com
X-WR-CALDESC:Events for Hightower Trail District
REFRESH-INTERVAL;VALUE=DURATION:PT1H
X-Robots-Tag:noindex
X-PUBLISHED-TTL:PT1H
BEGIN:VTIMEZONE
TZID:America/New_York
BEGIN:DAYLIGHT
TZOFFSETFROM:-0500
TZOFFSETTO:-0400
TZNAME:EDT
DTSTART:20230312T070000
END:DAYLIGHT
BEGIN:STANDARD
TZOFFSETFROM:-0400
TZOFFSETTO:-0500
TZNAME:EST
DTSTART:20231105T060000
END:STANDARD
BEGIN:DAYLIGHT
TZOFFSETFROM:-0500
TZOFFSETTO:-0400
TZNAME:EDT
DTSTART:20240310T070000
END:DAYLIGHT
BEGIN:STANDARD
TZOFFSETFROM:-0400
TZOFFSETTO:-0500
TZNAME:EST
DTSTART:20241103T060000
END:STANDARD
BEGIN:DAYLIGHT
TZOFFSETFROM:-0500
TZOFFSETTO:-0400
TZNAME:EDT
DTSTART:20250309T070000
END:DAYLIGHT
BEGIN:STANDARD
TZOFFSETFROM:-0400
TZOFFSETTO:-0500
TZNAME:EST
DTSTART:20251102T060000
END:STANDARD
END:VTIMEZONE
BEGIN:VEVENT
DTSTART;TZID=America/New_York:20240120T170000
DTEND;TZID=America/New_York:20240120T200000
DTSTAMP:20260419T122733
CREATED:20240104T233732Z
LAST-MODIFIED:20250109T203422Z
UID:1614-1705770000-1705780800@hightowertrailbsa.com
SUMMARY:2024 - Scout Day with Georgia Tech Basketball
DESCRIPTION:Grab your tickets for our upcoming Scout Day with the Georgia Tech Yellow Jackets! Watch as the Yellow Jackets take on the Virginia Cavaliers on Saturday\, January 20 at 6:00 PM at McCamish Pavilion!
URL:https://hightowertrailbsa.com/event/2024-scout-day-with-georgia-tech-basketball/
LOCATION:McCamish Pavilion\, 965 Fowler St NW\, Atlanta\, GA\, 30318\, United States
ATTACH;FMTTYPE=image/jpeg:https://hightowertrailbsa.com/wp-content/uploads/2024/01/GT-Logo-e1705371935175.jpg
END:VEVENT
END:VCALENDAR