BEGIN:VCALENDAR
VERSION:2.0
PRODID:-//Hightower Trail District - ECPv6.15.20//NONSGML v1.0//EN
CALSCALE:GREGORIAN
METHOD:PUBLISH
X-WR-CALNAME:Hightower Trail District
X-ORIGINAL-URL:https://hightowertrailbsa.com
X-WR-CALDESC:Events for Hightower Trail District
REFRESH-INTERVAL;VALUE=DURATION:PT1H
X-Robots-Tag:noindex
X-PUBLISHED-TTL:PT1H
BEGIN:VTIMEZONE
TZID:America/New_York
BEGIN:DAYLIGHT
TZOFFSETFROM:-0500
TZOFFSETTO:-0400
TZNAME:EDT
DTSTART:20230312T070000
END:DAYLIGHT
BEGIN:STANDARD
TZOFFSETFROM:-0400
TZOFFSETTO:-0500
TZNAME:EST
DTSTART:20231105T060000
END:STANDARD
BEGIN:DAYLIGHT
TZOFFSETFROM:-0500
TZOFFSETTO:-0400
TZNAME:EDT
DTSTART:20240310T070000
END:DAYLIGHT
BEGIN:STANDARD
TZOFFSETFROM:-0400
TZOFFSETTO:-0500
TZNAME:EST
DTSTART:20241103T060000
END:STANDARD
BEGIN:DAYLIGHT
TZOFFSETFROM:-0500
TZOFFSETTO:-0400
TZNAME:EDT
DTSTART:20250309T070000
END:DAYLIGHT
BEGIN:STANDARD
TZOFFSETFROM:-0400
TZOFFSETTO:-0500
TZNAME:EST
DTSTART:20251102T060000
END:STANDARD
END:VTIMEZONE
BEGIN:VEVENT
DTSTART;TZID=America/New_York:20240516T190000
DTEND;TZID=America/New_York:20240516T203000
DTSTAMP:20260419T152102
CREATED:20240117T153235Z
LAST-MODIFIED:20240429T170114Z
UID:1760-1715886000-1715891400@hightowertrailbsa.com
SUMMARY:May Roundtable - 2024
DESCRIPTION:Communication Tools\, Methods & Common Issues.\nBreakout Discussions: Cub Parent / Volunteer Communication  and Scouts BSA / Venturers Communication\n\nPlease arrive by 7pm for a prompt start.\nDoor Prize!  Snacks!\nUpcoming Events\, Training Opportunities\, and FYIs\nMeeting in the Scout Hut
URL:https://hightowertrailbsa.com/event/may-roundtable-2024/
LOCATION:Chamblee First United Methodist Church\, 4147 Chamblee Dunwoody Road\, Chamblee\, GA\, 30341\, United States
CATEGORIES:Roundtable
ATTACH;FMTTYPE=image/png:https://hightowertrailbsa.com/wp-content/uploads/2023/07/HightowerTrail-RoundTable-e1705505657264.png
END:VEVENT
END:VCALENDAR