BEGIN:VCALENDAR
VERSION:2.0
PRODID:-//Hightower Trail District - ECPv6.15.20//NONSGML v1.0//EN
CALSCALE:GREGORIAN
METHOD:PUBLISH
X-ORIGINAL-URL:https://hightowertrailbsa.com
X-WR-CALDESC:Events for Hightower Trail District
REFRESH-INTERVAL;VALUE=DURATION:PT1H
X-Robots-Tag:noindex
X-PUBLISHED-TTL:PT1H
BEGIN:VTIMEZONE
TZID:America/New_York
BEGIN:DAYLIGHT
TZOFFSETFROM:-0500
TZOFFSETTO:-0400
TZNAME:EDT
DTSTART:20230312T070000
END:DAYLIGHT
BEGIN:STANDARD
TZOFFSETFROM:-0400
TZOFFSETTO:-0500
TZNAME:EST
DTSTART:20231105T060000
END:STANDARD
BEGIN:DAYLIGHT
TZOFFSETFROM:-0500
TZOFFSETTO:-0400
TZNAME:EDT
DTSTART:20240310T070000
END:DAYLIGHT
BEGIN:STANDARD
TZOFFSETFROM:-0400
TZOFFSETTO:-0500
TZNAME:EST
DTSTART:20241103T060000
END:STANDARD
BEGIN:DAYLIGHT
TZOFFSETFROM:-0500
TZOFFSETTO:-0400
TZNAME:EDT
DTSTART:20250309T070000
END:DAYLIGHT
BEGIN:STANDARD
TZOFFSETFROM:-0400
TZOFFSETTO:-0500
TZNAME:EST
DTSTART:20251102T060000
END:STANDARD
END:VTIMEZONE
BEGIN:VEVENT
DTSTART;TZID=America/New_York:20240602T080000
DTEND;TZID=America/New_York:20240607T170000
DTSTAMP:20260419T205623
CREATED:20240307T231536Z
LAST-MODIFIED:20240307T231626Z
UID:1981-1717315200-1717779600@hightowertrailbsa.com
SUMMARY:2024 - STEM Academy at Georgia Tech
DESCRIPTION:Join us June 2 – 7 for a STEM-themed Summer Camp\nOpen to all rising 9th grade through 12th grade students!\nRegistration opening January 2\, 2024.  Registration closes April 30\, 2024.  \nOPEN TO ALL YOUTH. BSA MEMBERSHIP NOT REQUIRED. \nOur mission is to have high school students leave our academy with a deeper understanding of what STEM professionals do every day and how they change and build the world we live in. This is a unique and great way to get your high school students motivated about their future careers. Scouts will have the opportunity earn certain requirements from STEM-themed Merit Badges.
URL:https://hightowertrailbsa.com/event/2024-stem-academy-at-georgia-tech/
LOCATION:GA
ATTACH;FMTTYPE=image/png:https://hightowertrailbsa.com/wp-content/uploads/2024/03/StemAcademy.png
END:VEVENT
END:VCALENDAR