BEGIN:VCALENDAR
VERSION:2.0
PRODID:-//Hightower Trail District - ECPv6.15.20//NONSGML v1.0//EN
CALSCALE:GREGORIAN
METHOD:PUBLISH
X-ORIGINAL-URL:https://hightowertrailbsa.com
X-WR-CALDESC:Events for Hightower Trail District
REFRESH-INTERVAL;VALUE=DURATION:PT1H
X-Robots-Tag:noindex
X-PUBLISHED-TTL:PT1H
BEGIN:VTIMEZONE
TZID:America/New_York
BEGIN:DAYLIGHT
TZOFFSETFROM:-0500
TZOFFSETTO:-0400
TZNAME:EDT
DTSTART:20230312T070000
END:DAYLIGHT
BEGIN:STANDARD
TZOFFSETFROM:-0400
TZOFFSETTO:-0500
TZNAME:EST
DTSTART:20231105T060000
END:STANDARD
BEGIN:DAYLIGHT
TZOFFSETFROM:-0500
TZOFFSETTO:-0400
TZNAME:EDT
DTSTART:20240310T070000
END:DAYLIGHT
BEGIN:STANDARD
TZOFFSETFROM:-0400
TZOFFSETTO:-0500
TZNAME:EST
DTSTART:20241103T060000
END:STANDARD
BEGIN:DAYLIGHT
TZOFFSETFROM:-0500
TZOFFSETTO:-0400
TZNAME:EDT
DTSTART:20250309T070000
END:DAYLIGHT
BEGIN:STANDARD
TZOFFSETFROM:-0400
TZOFFSETTO:-0500
TZNAME:EST
DTSTART:20251102T060000
END:STANDARD
END:VTIMEZONE
BEGIN:VEVENT
DTSTART;TZID=America/New_York:20241011T180000
DTEND;TZID=America/New_York:20241013T100000
DTSTAMP:20260420T122405
CREATED:20240724T213351Z
LAST-MODIFIED:20240724T213351Z
UID:2209-1728669600-1728813600@hightowertrailbsa.com
SUMMARY:2024 - Spooky-Ree - Weekend 1
DESCRIPTION:Spooky-Ree is a Fall-Family-Fun event full of themed activities including games & crafts\, different special guests each weekend\, shooting sports\, an obstacle course & inflatables\, and pumpkin carving. Come as a Pack or as a family and spend a weekend at Bert Adams Scout Camp. Siblings are welcome to join in all of the fun activities! \nThere will be three weekends available. \nLearn More and Register \n 
URL:https://hightowertrailbsa.com/event/2024-spooky-ree-weekend-1/
LOCATION:Bert Adams Scout Camp\, 218 Scout Rd\, Covington\, GA\, 30016\, United States
CATEGORIES:Bert Adams,Cub Scouts
ATTACH;FMTTYPE=image/jpeg:https://hightowertrailbsa.com/wp-content/uploads/2024/07/2024-spookyree.jpg
END:VEVENT
BEGIN:VEVENT
DTSTART;TZID=America/New_York:20241012T083000
DTEND;TZID=America/New_York:20241012T150000
DTSTAMP:20260420T122405
CREATED:20241008T145749Z
LAST-MODIFIED:20241008T145803Z
UID:2678-1728721800-1728745200@hightowertrailbsa.com
SUMMARY:2024 - October - Lodge Day of Service
DESCRIPTION:Day of Service
URL:https://hightowertrailbsa.com/event/2024-october-lodge-day-of-service/
LOCATION:GA
CATEGORIES:Order of the Arrow
ATTACH;FMTTYPE=image/png:https://hightowertrailbsa.com/wp-content/uploads/2024/01/800px-Order_of_the_Arrow.svg1_.png
END:VEVENT
BEGIN:VEVENT
DTSTART;TZID=America/New_York:20241012T200000
DTEND;TZID=America/New_York:20241012T230000
DTSTAMP:20260420T122405
CREATED:20240723T000817Z
LAST-MODIFIED:20240723T000817Z
UID:2205-1728763200-1728774000@hightowertrailbsa.com
SUMMARY:2024 - Scout Day with Georgia State Football
DESCRIPTION:Grab your tickets for our upcoming Scout Day with the Georgia State Panthers! Watch as the Panthers take on the Vanderbilt Commodores on September 14 & Old Dominion Monarchs on October 12 at Center Parc Stadium! \nPurchase Tickets for Georgia State Football
URL:https://hightowertrailbsa.com/event/2024-scout-day-with-georgia-state-football-2/
LOCATION:Center Parc Stadium\, 755 Hank Aaron Dr SE\, \, GA\, Atlanta\, GA\, 30315\, United States
ATTACH;FMTTYPE=image/png:https://hightowertrailbsa.com/wp-content/uploads/2024/07/Georgia-State-Logo-e1721692287131.png
END:VEVENT
END:VCALENDAR