BEGIN:VCALENDAR
VERSION:2.0
PRODID:-//Hightower Trail District - ECPv6.15.20//NONSGML v1.0//EN
CALSCALE:GREGORIAN
METHOD:PUBLISH
X-WR-CALNAME:Hightower Trail District
X-ORIGINAL-URL:https://hightowertrailbsa.com
X-WR-CALDESC:Events for Hightower Trail District
REFRESH-INTERVAL;VALUE=DURATION:PT1H
X-Robots-Tag:noindex
X-PUBLISHED-TTL:PT1H
BEGIN:VTIMEZONE
TZID:America/New_York
BEGIN:DAYLIGHT
TZOFFSETFROM:-0500
TZOFFSETTO:-0400
TZNAME:EDT
DTSTART:20230312T070000
END:DAYLIGHT
BEGIN:STANDARD
TZOFFSETFROM:-0400
TZOFFSETTO:-0500
TZNAME:EST
DTSTART:20231105T060000
END:STANDARD
BEGIN:DAYLIGHT
TZOFFSETFROM:-0500
TZOFFSETTO:-0400
TZNAME:EDT
DTSTART:20240310T070000
END:DAYLIGHT
BEGIN:STANDARD
TZOFFSETFROM:-0400
TZOFFSETTO:-0500
TZNAME:EST
DTSTART:20241103T060000
END:STANDARD
BEGIN:DAYLIGHT
TZOFFSETFROM:-0500
TZOFFSETTO:-0400
TZNAME:EDT
DTSTART:20250309T070000
END:DAYLIGHT
BEGIN:STANDARD
TZOFFSETFROM:-0400
TZOFFSETTO:-0500
TZNAME:EST
DTSTART:20251102T060000
END:STANDARD
END:VTIMEZONE
BEGIN:VEVENT
DTSTART;TZID=America/New_York:20240301T080000
DTEND;TZID=America/New_York:20240303T170000
DTSTAMP:20260423T062802
CREATED:20231204T202506Z
LAST-MODIFIED:20240208T034450Z
UID:1531-1709280000-1709485200@hightowertrailbsa.com
SUMMARY:2024 - District Camporee
DESCRIPTION:Come join us for the District Camporee! This year we have tomahawk throwing\, an orienteering course and the Georgia Geocachers Association will be setting up a geocaching course. Other great events will happen such as lighting matches with hatchets\, Dining Fly Relays\, Scavenger hunt and much more! Find out who will get the coveted GOLDEN AXE!
URL:https://hightowertrailbsa.com/event/district-camporee/
LOCATION:Bert Adams Scout Camp\, 218 Scout Rd\, Covington\, GA\, 30016\, United States
CATEGORIES:Camporee
ATTACH;FMTTYPE=image/png:https://hightowertrailbsa.com/wp-content/uploads/2023/12/Camporee-Patch-2024.png
END:VEVENT
END:VCALENDAR