BEGIN:VCALENDAR
VERSION:2.0
PRODID:-//Hightower Trail District - ECPv6.15.20//NONSGML v1.0//EN
CALSCALE:GREGORIAN
METHOD:PUBLISH
X-WR-CALNAME:Hightower Trail District
X-ORIGINAL-URL:https://hightowertrailbsa.com
X-WR-CALDESC:Events for Hightower Trail District
REFRESH-INTERVAL;VALUE=DURATION:PT1H
X-Robots-Tag:noindex
X-PUBLISHED-TTL:PT1H
BEGIN:VTIMEZONE
TZID:America/New_York
BEGIN:DAYLIGHT
TZOFFSETFROM:-0500
TZOFFSETTO:-0400
TZNAME:EDT
DTSTART:20230312T070000
END:DAYLIGHT
BEGIN:STANDARD
TZOFFSETFROM:-0400
TZOFFSETTO:-0500
TZNAME:EST
DTSTART:20231105T060000
END:STANDARD
BEGIN:DAYLIGHT
TZOFFSETFROM:-0500
TZOFFSETTO:-0400
TZNAME:EDT
DTSTART:20240310T070000
END:DAYLIGHT
BEGIN:STANDARD
TZOFFSETFROM:-0400
TZOFFSETTO:-0500
TZNAME:EST
DTSTART:20241103T060000
END:STANDARD
BEGIN:DAYLIGHT
TZOFFSETFROM:-0500
TZOFFSETTO:-0400
TZNAME:EDT
DTSTART:20250309T070000
END:DAYLIGHT
BEGIN:STANDARD
TZOFFSETFROM:-0400
TZOFFSETTO:-0500
TZNAME:EST
DTSTART:20251102T060000
END:STANDARD
END:VTIMEZONE
BEGIN:VEVENT
DTSTART;TZID=America/New_York:20241011T180000
DTEND;TZID=America/New_York:20241013T100000
DTSTAMP:20260420T125125
CREATED:20240724T213351Z
LAST-MODIFIED:20240724T213351Z
UID:2209-1728669600-1728813600@hightowertrailbsa.com
SUMMARY:2024 - Spooky-Ree - Weekend 1
DESCRIPTION:Spooky-Ree is a Fall-Family-Fun event full of themed activities including games & crafts\, different special guests each weekend\, shooting sports\, an obstacle course & inflatables\, and pumpkin carving. Come as a Pack or as a family and spend a weekend at Bert Adams Scout Camp. Siblings are welcome to join in all of the fun activities! \nThere will be three weekends available. \nLearn More and Register \n 
URL:https://hightowertrailbsa.com/event/2024-spooky-ree-weekend-1/
LOCATION:Bert Adams Scout Camp\, 218 Scout Rd\, Covington\, GA\, 30016\, United States
CATEGORIES:Bert Adams,Cub Scouts
ATTACH;FMTTYPE=image/jpeg:https://hightowertrailbsa.com/wp-content/uploads/2024/07/2024-spookyree.jpg
END:VEVENT
END:VCALENDAR