BEGIN:VCALENDAR
VERSION:2.0
PRODID:-//Hightower Trail District - ECPv6.15.20//NONSGML v1.0//EN
CALSCALE:GREGORIAN
METHOD:PUBLISH
X-ORIGINAL-URL:https://hightowertrailbsa.com
X-WR-CALDESC:Events for Hightower Trail District
REFRESH-INTERVAL;VALUE=DURATION:PT1H
X-Robots-Tag:noindex
X-PUBLISHED-TTL:PT1H
BEGIN:VTIMEZONE
TZID:America/New_York
BEGIN:DAYLIGHT
TZOFFSETFROM:-0500
TZOFFSETTO:-0400
TZNAME:EDT
DTSTART:20210314T070000
END:DAYLIGHT
BEGIN:STANDARD
TZOFFSETFROM:-0400
TZOFFSETTO:-0500
TZNAME:EST
DTSTART:20211107T060000
END:STANDARD
BEGIN:DAYLIGHT
TZOFFSETFROM:-0500
TZOFFSETTO:-0400
TZNAME:EDT
DTSTART:20220313T070000
END:DAYLIGHT
BEGIN:STANDARD
TZOFFSETFROM:-0400
TZOFFSETTO:-0500
TZNAME:EST
DTSTART:20221106T060000
END:STANDARD
BEGIN:DAYLIGHT
TZOFFSETFROM:-0500
TZOFFSETTO:-0400
TZNAME:EDT
DTSTART:20230312T070000
END:DAYLIGHT
BEGIN:STANDARD
TZOFFSETFROM:-0400
TZOFFSETTO:-0500
TZNAME:EST
DTSTART:20231105T060000
END:STANDARD
END:VTIMEZONE
BEGIN:VEVENT
DTSTART;VALUE=DATE:20220606
DTEND;VALUE=DATE:20220611
DTSTAMP:20260423T104826
CREATED:20220228T163744Z
LAST-MODIFIED:20220429T151404Z
UID:524-1654473600-1654905599@hightowertrailbsa.com
SUMMARY:Hightower Trail - 2022 Cub Scout Day Camp
DESCRIPTION:The Hightower Trail Cub Scout Day Camp registration is OPEN!!  Register now to reserve your spot: Tentaroo Registration (atlantabsa.org) \nPlease make sure you register your Cub Scout for the rank they will be in August\, not their current rank (example: If they are currently a Tiger\, they should register as a Wolf).  Also be sure to update their t-shirt size on the registration form\, if needed. \nCub Scout Day Camp is a summer outdoor experience for Cub Scout youth in rising 1st through 5th grade.  Note that rising 1st graders (Tigers) must be accompanied by their adult partner while at Day Camp. \nThis year’s theme is the “Wild\, Wild West!” and we have been working on an amazing program for your Cub Scouts.  We will have lots of surprise special guests and an array of activities to participate in – from archery and BBs to science experiments and obstacle courses!  Cub Scouts will have the opportunity to try new things as they work on elective adventures for their rank.  Most importantly\, they will have FUN!!! \nVOLUNTEERS: \nWe are in need of VOLUNTEERS!!  You can volunteer a day\, a couple of days\, or the entire week.  Day Camp is ENTIRELY led by volunteers\, so please help out if you are able. It is SUPER FUN!!  You can share a skill or activity with the Cub Scouts (we will provide the supplies you need)\, lead a den of 8-10 Cub Scouts through various activity stations throughout the day\, lead a nature hike\, help with registration\, or lead/assist with an activity station.  To volunteer\, please REGISTER as an Adult Volunteer or Youth Volunteer on the day camp registration site (Tentaroo Registration (atlantabsa.org)).  Volunteers will receive a t-shirt and day camp patch. \nYouth volunteers can serve as den chiefs\, assist activity leaders (help with rockets\, shooting sports\, STEM\, obstacle course\, nature hike\, map skills\, games\, etc.)\, help set up/break down day camp\, refill water stations\, or assist with carpool. \nA  description of adult volunteer opportunities available is below.  Please also take the volunteer interest survey here to help us with assigning volunteer positions (youth and adults): https://www.surveymonkey.com/r/7CWCW2C \nQuestions?  Email alisha.etheredge@gmail.com
URL:https://hightowertrailbsa.com/event/hightower-trail-2022-cub-scout-day-camp/
LOCATION:Chamblee First United Methodist Church\, 4147 Chamblee Dunwoody Road\, Chamblee\, GA\, 30341\, United States
CATEGORIES:Cub Scouts,Day Camp
END:VEVENT
END:VCALENDAR