BEGIN:VCALENDAR
VERSION:2.0
PRODID:-//Hightower Trail District - ECPv6.15.20//NONSGML v1.0//EN
CALSCALE:GREGORIAN
METHOD:PUBLISH
X-WR-CALNAME:Hightower Trail District
X-ORIGINAL-URL:https://hightowertrailbsa.com
X-WR-CALDESC:Events for Hightower Trail District
REFRESH-INTERVAL;VALUE=DURATION:PT1H
X-Robots-Tag:noindex
X-PUBLISHED-TTL:PT1H
BEGIN:VTIMEZONE
TZID:America/New_York
BEGIN:DAYLIGHT
TZOFFSETFROM:-0500
TZOFFSETTO:-0400
TZNAME:EDT
DTSTART:20230312T070000
END:DAYLIGHT
BEGIN:STANDARD
TZOFFSETFROM:-0400
TZOFFSETTO:-0500
TZNAME:EST
DTSTART:20231105T060000
END:STANDARD
BEGIN:DAYLIGHT
TZOFFSETFROM:-0500
TZOFFSETTO:-0400
TZNAME:EDT
DTSTART:20240310T070000
END:DAYLIGHT
BEGIN:STANDARD
TZOFFSETFROM:-0400
TZOFFSETTO:-0500
TZNAME:EST
DTSTART:20241103T060000
END:STANDARD
BEGIN:DAYLIGHT
TZOFFSETFROM:-0500
TZOFFSETTO:-0400
TZNAME:EDT
DTSTART:20250309T070000
END:DAYLIGHT
BEGIN:STANDARD
TZOFFSETFROM:-0400
TZOFFSETTO:-0500
TZNAME:EST
DTSTART:20251102T060000
END:STANDARD
BEGIN:DAYLIGHT
TZOFFSETFROM:-0500
TZOFFSETTO:-0400
TZNAME:EDT
DTSTART:20260308T070000
END:DAYLIGHT
BEGIN:STANDARD
TZOFFSETFROM:-0400
TZOFFSETTO:-0500
TZNAME:EST
DTSTART:20261101T060000
END:STANDARD
END:VTIMEZONE
BEGIN:VEVENT
DTSTART;TZID=America/New_York:20250502T050000
DTEND;TZID=America/New_York:20250502T120000
DTSTAMP:20260419T170443
CREATED:20241008T151630Z
LAST-MODIFIED:20241008T151823Z
UID:2689-1746162000-1746187200@hightowertrailbsa.com
SUMMARY:2025 - OA - Spring Induction
DESCRIPTION:
URL:https://hightowertrailbsa.com/event/2025-oa-spring-induction/
LOCATION:Woodruff Scout Camp\, 31 Woodruff Drive\, Blairsville\, GA\, 30512\, United States
CATEGORIES:Order of the Arrow
ATTACH;FMTTYPE=image/png:https://hightowertrailbsa.com/wp-content/uploads/2024/01/egwa129flap1.png
END:VEVENT
BEGIN:VEVENT
DTSTART;TZID=America/New_York:20250404T050000
DTEND;TZID=America/New_York:20250406T120000
DTSTAMP:20260419T170443
CREATED:20241008T151112Z
LAST-MODIFIED:20241008T151845Z
UID:2685-1743742800-1743940800@hightowertrailbsa.com
SUMMARY:2025 - OA - Conclave
DESCRIPTION:
URL:https://hightowertrailbsa.com/event/2025-oa-conclave/
LOCATION:Bert Adams Scout Camp\, 218 Scout Rd\, Covington\, GA\, 30016\, United States
CATEGORIES:Order of the Arrow
ATTACH;FMTTYPE=image/png:https://hightowertrailbsa.com/wp-content/uploads/2024/01/egwa129flap1.png
END:VEVENT
BEGIN:VEVENT
DTSTART;TZID=America/New_York:20250228T170000
DTEND;TZID=America/New_York:20250302T120000
DTSTAMP:20260419T170443
CREATED:20241008T151244Z
LAST-MODIFIED:20250212T173611Z
UID:2687-1740762000-1740916800@hightowertrailbsa.com
SUMMARY:2025 - OA - Spring Gathering
DESCRIPTION:
URL:https://hightowertrailbsa.com/event/2025-oa-spring-gathering/
LOCATION:Bert Adams Scout Camp\, 218 Scout Rd\, Covington\, GA\, 30016\, United States
CATEGORIES:Order of the Arrow
ATTACH;FMTTYPE=image/png:https://hightowertrailbsa.com/wp-content/uploads/2024/01/egwa129flap1.png
END:VEVENT
BEGIN:VEVENT
DTSTART;TZID=America/New_York:20241214T083000
DTEND;TZID=America/New_York:20241214T150000
DTSTAMP:20260419T170443
CREATED:20241008T150828Z
LAST-MODIFIED:20241008T150828Z
UID:2682-1734165000-1734188400@hightowertrailbsa.com
SUMMARY:2024 - December - Lodge Day of Service
DESCRIPTION:Day of Service
URL:https://hightowertrailbsa.com/event/2024-december-lodge-day-of-service/
LOCATION:East View Cemetery\, 56 4th Ave SE\, Atlanta\, GA\, 30317\, United States
CATEGORIES:Order of the Arrow
ATTACH;FMTTYPE=image/png:https://hightowertrailbsa.com/wp-content/uploads/2024/01/800px-Order_of_the_Arrow.svg1_.png
END:VEVENT
BEGIN:VEVENT
DTSTART;TZID=America/New_York:20241108T080000
DTEND;TZID=America/New_York:20241108T170000
DTSTAMP:20260419T170443
CREATED:20241008T150312Z
LAST-MODIFIED:20241008T150445Z
UID:2680-1731052800-1731085200@hightowertrailbsa.com
SUMMARY:2024 - Fall Induction and Fellowship
DESCRIPTION:The Ordeal is a weekend experience in which those elected or selected learn about the customs and traditions of the Order of the Arrow and undertake a spiritual journey to discover the true meanings of leadership\, service and the Brotherhood of Scouting.
URL:https://hightowertrailbsa.com/event/2024-fall-induction-and-fellowship/
LOCATION:Bert Adams Scout Camp\, 218 Scout Rd\, Covington\, GA\, 30016\, United States
CATEGORIES:Order of the Arrow
ATTACH;FMTTYPE=image/png:https://hightowertrailbsa.com/wp-content/uploads/2024/01/egwa129flap1.png
END:VEVENT
BEGIN:VEVENT
DTSTART;TZID=America/New_York:20241012T083000
DTEND;TZID=America/New_York:20241012T150000
DTSTAMP:20260419T170443
CREATED:20241008T145749Z
LAST-MODIFIED:20241008T145803Z
UID:2678-1728721800-1728745200@hightowertrailbsa.com
SUMMARY:2024 - October - Lodge Day of Service
DESCRIPTION:Day of Service
URL:https://hightowertrailbsa.com/event/2024-october-lodge-day-of-service/
LOCATION:GA
CATEGORIES:Order of the Arrow
ATTACH;FMTTYPE=image/png:https://hightowertrailbsa.com/wp-content/uploads/2024/01/800px-Order_of_the_Arrow.svg1_.png
END:VEVENT
BEGIN:VEVENT
DTSTART;VALUE=DATE:20240503
DTEND;VALUE=DATE:20240506
DTSTAMP:20260419T170443
CREATED:20240114T222615Z
LAST-MODIFIED:20240114T224718Z
UID:1690-1714694400-1714953599@hightowertrailbsa.com
SUMMARY:2024 - OA Induction Woodruff
DESCRIPTION:
URL:https://hightowertrailbsa.com/event/2024-oa-induction-woodruff/
LOCATION:GA
CATEGORIES:Order of the Arrow
ATTACH;FMTTYPE=image/png:https://hightowertrailbsa.com/wp-content/uploads/2024/01/egwa129flap1.png
END:VEVENT
BEGIN:VEVENT
DTSTART;VALUE=DATE:20240419
DTEND;VALUE=DATE:20240422
DTSTAMP:20260419T170443
CREATED:20240114T222325Z
LAST-MODIFIED:20240114T224757Z
UID:1688-1713484800-1713743999@hightowertrailbsa.com
SUMMARY:2024 - OA Conclave
DESCRIPTION:
URL:https://hightowertrailbsa.com/event/2024-oa-conclave/
LOCATION:GA
CATEGORIES:Order of the Arrow
ATTACH;FMTTYPE=image/png:https://hightowertrailbsa.com/wp-content/uploads/2024/01/egwa129flap1.png
END:VEVENT
BEGIN:VEVENT
DTSTART;VALUE=DATE:20240308
DTEND;VALUE=DATE:20240311
DTSTAMP:20260419T170443
CREATED:20240114T220354Z
LAST-MODIFIED:20240114T224820Z
UID:1683-1709856000-1710115199@hightowertrailbsa.com
SUMMARY:2024 - OA Spring Gathering
DESCRIPTION:
URL:https://hightowertrailbsa.com/event/2024-oa-spring-gathering/
LOCATION:Bert Adams Scout Camp\, 218 Scout Rd\, Covington\, GA\, 30016\, United States
CATEGORIES:Order of the Arrow
ATTACH;FMTTYPE=image/png:https://hightowertrailbsa.com/wp-content/uploads/2024/01/egwa129flap1.png
END:VEVENT
END:VCALENDAR