BEGIN:VCALENDAR
VERSION:2.0
PRODID:-//Hightower Trail District - ECPv6.15.20//NONSGML v1.0//EN
CALSCALE:GREGORIAN
METHOD:PUBLISH
X-ORIGINAL-URL:https://hightowertrailbsa.com
X-WR-CALDESC:Events for Hightower Trail District
REFRESH-INTERVAL;VALUE=DURATION:PT1H
X-Robots-Tag:noindex
X-PUBLISHED-TTL:PT1H
BEGIN:VTIMEZONE
TZID:America/New_York
BEGIN:DAYLIGHT
TZOFFSETFROM:-0500
TZOFFSETTO:-0400
TZNAME:EDT
DTSTART:20210314T070000
END:DAYLIGHT
BEGIN:STANDARD
TZOFFSETFROM:-0400
TZOFFSETTO:-0500
TZNAME:EST
DTSTART:20211107T060000
END:STANDARD
BEGIN:DAYLIGHT
TZOFFSETFROM:-0500
TZOFFSETTO:-0400
TZNAME:EDT
DTSTART:20220313T070000
END:DAYLIGHT
BEGIN:STANDARD
TZOFFSETFROM:-0400
TZOFFSETTO:-0500
TZNAME:EST
DTSTART:20221106T060000
END:STANDARD
BEGIN:DAYLIGHT
TZOFFSETFROM:-0500
TZOFFSETTO:-0400
TZNAME:EDT
DTSTART:20230312T070000
END:DAYLIGHT
BEGIN:STANDARD
TZOFFSETFROM:-0400
TZOFFSETTO:-0500
TZNAME:EST
DTSTART:20231105T060000
END:STANDARD
END:VTIMEZONE
BEGIN:VEVENT
DTSTART;TZID=America/New_York:20220422T173000
DTEND;TZID=America/New_York:20220422T203000
DTSTAMP:20260424T075817
CREATED:20220406T165409Z
LAST-MODIFIED:20220429T151025Z
UID:559-1650648600-1650659400@hightowertrailbsa.com
SUMMARY:Murphey Candler Park - Earth Day
DESCRIPTION:5th Annual Earth Day Spring Social\nFood\, Music\, Kid’s Activities\, Beer/Wine and More!\n\n\n\n\n\nThis Murphey Candler Park community event raises awareness for on-going park conservation efforts\, volunteer opportunities\, Brookhaven Parks Bond initiative\, Brookhaven Tree Canopy and Brookhaven Public Work’s Watershed Study improvements. \nLocal conservation groups will be on-hand to show and explain their environmental goals\, projects\, and educational programs. \nTrees Atlanta\, Chattahoochee Riverkeepers\, Metro Atlanta Beekeepers\, Atlanta Audubon Society\, National Wildlife Federation\, National Parks Service\, GA Native Plant Society\, The Amphibian Foundation\, Mushroom Club of GA\, and more. \nLocal Sports Leagues and Scout Troops will provide updates on their meetings\, leagues\, camps\, upcoming seasons\, and registration.
URL:https://hightowertrailbsa.com/event/murphey-candler-park-earth-day/
LOCATION:Murphey Candler Park\, 1690 West Nancy Creek Dr.\, Brookhaven\, GA\, 30319\, United States
END:VEVENT
END:VCALENDAR