BEGIN:VCALENDAR
VERSION:2.0
PRODID:-//Hightower Trail District - ECPv6.15.20//NONSGML v1.0//EN
CALSCALE:GREGORIAN
METHOD:PUBLISH
X-ORIGINAL-URL:https://hightowertrailbsa.com
X-WR-CALDESC:Events for Hightower Trail District
REFRESH-INTERVAL;VALUE=DURATION:PT1H
X-Robots-Tag:noindex
X-PUBLISHED-TTL:PT1H
BEGIN:VTIMEZONE
TZID:America/New_York
BEGIN:DAYLIGHT
TZOFFSETFROM:-0500
TZOFFSETTO:-0400
TZNAME:EDT
DTSTART:20220313T070000
END:DAYLIGHT
BEGIN:STANDARD
TZOFFSETFROM:-0400
TZOFFSETTO:-0500
TZNAME:EST
DTSTART:20221106T060000
END:STANDARD
BEGIN:DAYLIGHT
TZOFFSETFROM:-0500
TZOFFSETTO:-0400
TZNAME:EDT
DTSTART:20230312T070000
END:DAYLIGHT
BEGIN:STANDARD
TZOFFSETFROM:-0400
TZOFFSETTO:-0500
TZNAME:EST
DTSTART:20231105T060000
END:STANDARD
BEGIN:DAYLIGHT
TZOFFSETFROM:-0500
TZOFFSETTO:-0400
TZNAME:EDT
DTSTART:20240310T070000
END:DAYLIGHT
BEGIN:STANDARD
TZOFFSETFROM:-0400
TZOFFSETTO:-0500
TZNAME:EST
DTSTART:20241103T060000
END:STANDARD
END:VTIMEZONE
BEGIN:VEVENT
DTSTART;TZID=America/New_York:20230527T090000
DTEND;TZID=America/New_York:20230527T160000
DTSTAMP:20260421T110724
CREATED:20230517T221944Z
LAST-MODIFIED:20230613T182030Z
UID:761-1685178000-1685203200@hightowertrailbsa.com
SUMMARY:Volunteer Training Day at Bert Adams
DESCRIPTION:The Bert Adams Support Society (B.A.S.S.) is hosting some volunteer trainings for the month of May. Volunteers truly make the magic happen at Bert Adams. These training classes are offered only a couple of times a year. Lunch is provided at 12:30. \nThe following three training classes are available on May 27th\, 2023: \n\nChainsaw\nSawmill\nCamp Master\n\nClick on the links above to be taken to the registration login for the class. Don’t miss this training opportunity.
URL:https://hightowertrailbsa.com/event/volunteer-training-day-at-bert-adams/
LOCATION:Bert Adams Scout Camp\, 218 Scout Rd\, Covington\, GA\, 30016\, United States
CATEGORIES:Bert Adams
ATTACH;FMTTYPE=image/png:https://hightowertrailbsa.com/wp-content/uploads/2023/05/Bert-Adams-Support-Society-BASS.png
END:VEVENT
END:VCALENDAR