BEGIN:VCALENDAR
VERSION:2.0
PRODID:-//Hightower Trail District - ECPv6.15.20//NONSGML v1.0//EN
CALSCALE:GREGORIAN
METHOD:PUBLISH
X-ORIGINAL-URL:https://hightowertrailbsa.com
X-WR-CALDESC:Events for Hightower Trail District
REFRESH-INTERVAL;VALUE=DURATION:PT1H
X-Robots-Tag:noindex
X-PUBLISHED-TTL:PT1H
BEGIN:VTIMEZONE
TZID:America/New_York
BEGIN:DAYLIGHT
TZOFFSETFROM:-0500
TZOFFSETTO:-0400
TZNAME:EDT
DTSTART:20220313T070000
END:DAYLIGHT
BEGIN:STANDARD
TZOFFSETFROM:-0400
TZOFFSETTO:-0500
TZNAME:EST
DTSTART:20221106T060000
END:STANDARD
BEGIN:DAYLIGHT
TZOFFSETFROM:-0500
TZOFFSETTO:-0400
TZNAME:EDT
DTSTART:20230312T070000
END:DAYLIGHT
BEGIN:STANDARD
TZOFFSETFROM:-0400
TZOFFSETTO:-0500
TZNAME:EST
DTSTART:20231105T060000
END:STANDARD
BEGIN:DAYLIGHT
TZOFFSETFROM:-0500
TZOFFSETTO:-0400
TZNAME:EDT
DTSTART:20240310T070000
END:DAYLIGHT
BEGIN:STANDARD
TZOFFSETFROM:-0400
TZOFFSETTO:-0500
TZNAME:EST
DTSTART:20241103T060000
END:STANDARD
END:VTIMEZONE
BEGIN:VEVENT
DTSTART;VALUE=DATE:20230605
DTEND;VALUE=DATE:20230610
DTSTAMP:20260420T113020
CREATED:20230217T182450Z
LAST-MODIFIED:20230217T184004Z
UID:753-1685923200-1686355199@hightowertrailbsa.com
SUMMARY:2023 Cub Scout Day Camp
DESCRIPTION:Get your suntan lotion and water bottles ready for a weeklong of fun.\nThis year we are “Off to the Races” getting our scouts to the next rank and having fun with different types of Arts & Crafts\, BBs\, Archery and so much more. Make sure you put this on your calendar and register now. \n 
URL:https://hightowertrailbsa.com/event/2023-cub-scout-day-camp/
LOCATION:Chamblee First United Methodist Church\, 4147 Chamblee Dunwoody Road\, Chamblee\, GA\, 30341\, United States
CATEGORIES:Day Camp
ATTACH;FMTTYPE=image/png:https://hightowertrailbsa.com/wp-content/uploads/2023/02/Off-to-the-Races-2023.png
END:VEVENT
BEGIN:VEVENT
DTSTART;TZID=America/New_York:20230624T083000
DTEND;TZID=America/New_York:20230624T163000
DTSTAMP:20260420T113020
CREATED:20230613T183210Z
LAST-MODIFIED:20230613T183710Z
UID:775-1687595400-1687624200@hightowertrailbsa.com
SUMMARY:Bert Adams - Volunteer Work Day
DESCRIPTION:The Bert Adams Support Society (B.A.S.S.) is having a volunteer Work Day for the month of June. Volunteers truly make the magic happen at Bert Adams. Put in some service hours making a difference at Bert Adams. Lunch and equipment are provided. \nRegister Here!
URL:https://hightowertrailbsa.com/event/bert-adams-volunteer-work-day/
LOCATION:GA
CATEGORIES:Bert Adams
ATTACH;FMTTYPE=image/png:https://hightowertrailbsa.com/wp-content/uploads/2023/05/Bert-Adams-Support-Society-BASS.png
END:VEVENT
END:VCALENDAR