BEGIN:VCALENDAR
VERSION:2.0
PRODID:-//Hightower Trail District - ECPv6.15.20//NONSGML v1.0//EN
CALSCALE:GREGORIAN
METHOD:PUBLISH
X-WR-CALNAME:Hightower Trail District
X-ORIGINAL-URL:https://hightowertrailbsa.com
X-WR-CALDESC:Events for Hightower Trail District
REFRESH-INTERVAL;VALUE=DURATION:PT1H
X-Robots-Tag:noindex
X-PUBLISHED-TTL:PT1H
BEGIN:VTIMEZONE
TZID:America/New_York
BEGIN:DAYLIGHT
TZOFFSETFROM:-0500
TZOFFSETTO:-0400
TZNAME:EDT
DTSTART:20230312T070000
END:DAYLIGHT
BEGIN:STANDARD
TZOFFSETFROM:-0400
TZOFFSETTO:-0500
TZNAME:EST
DTSTART:20231105T060000
END:STANDARD
BEGIN:DAYLIGHT
TZOFFSETFROM:-0500
TZOFFSETTO:-0400
TZNAME:EDT
DTSTART:20240310T070000
END:DAYLIGHT
BEGIN:STANDARD
TZOFFSETFROM:-0400
TZOFFSETTO:-0500
TZNAME:EST
DTSTART:20241103T060000
END:STANDARD
BEGIN:DAYLIGHT
TZOFFSETFROM:-0500
TZOFFSETTO:-0400
TZNAME:EDT
DTSTART:20250309T070000
END:DAYLIGHT
BEGIN:STANDARD
TZOFFSETFROM:-0400
TZOFFSETTO:-0500
TZNAME:EST
DTSTART:20251102T060000
END:STANDARD
END:VTIMEZONE
BEGIN:VEVENT
DTSTART;TZID=America/New_York:20240601T080000
DTEND;TZID=America/New_York:20240601T170000
DTSTAMP:20260419T181323
CREATED:20240426T135634Z
LAST-MODIFIED:20240426T141551Z
UID:2094-1717228800-1717261200@hightowertrailbsa.com
SUMMARY:Aquatics Merit Badge Day - 1 of 9 - 2024
DESCRIPTION:Scouts have the opportunity to earn aquatics-themed merit badges nine different weekends between June 1st to August 10th at the Allatoona Aquatics Base! With 10 different merit badge offerings\, Scouts can learn new skills only available during the warm summer months. \nAquatics Merit Badge Days will be held on Saturdays from 8am – 5pm. All participants\, Scouts and Adults\, who will be in the water or near the water and in boats will be required to take and pass the BSA Swimmer Classification test for each Merit Badge they take each week. \nAquatics MB days Flyer \nJune 1st Merit Badge Offerings\nSwimming\nSmall Boat Sailing\nKayaking\nFishing\nCanoeing
URL:https://hightowertrailbsa.com/event/aquatics-merit-badge-day-1-of-9-2024/
LOCATION:Allatoona Aquatics Base\, 200 Lovingood Rd\, Woodstock\, GA\, 30189\, United States
ATTACH;FMTTYPE=image/png:https://hightowertrailbsa.com/wp-content/uploads/2024/04/Aquatics-Merit-Badge-Days.png
END:VEVENT
BEGIN:VEVENT
DTSTART;TZID=America/New_York:20240602T080000
DTEND;TZID=America/New_York:20240607T170000
DTSTAMP:20260419T181323
CREATED:20240307T231536Z
LAST-MODIFIED:20240307T231626Z
UID:1981-1717315200-1717779600@hightowertrailbsa.com
SUMMARY:2024 - STEM Academy at Georgia Tech
DESCRIPTION:Join us June 2 – 7 for a STEM-themed Summer Camp\nOpen to all rising 9th grade through 12th grade students!\nRegistration opening January 2\, 2024.  Registration closes April 30\, 2024.  \nOPEN TO ALL YOUTH. BSA MEMBERSHIP NOT REQUIRED. \nOur mission is to have high school students leave our academy with a deeper understanding of what STEM professionals do every day and how they change and build the world we live in. This is a unique and great way to get your high school students motivated about their future careers. Scouts will have the opportunity earn certain requirements from STEM-themed Merit Badges.
URL:https://hightowertrailbsa.com/event/2024-stem-academy-at-georgia-tech/
LOCATION:GA
ATTACH;FMTTYPE=image/png:https://hightowertrailbsa.com/wp-content/uploads/2024/03/StemAcademy.png
END:VEVENT
BEGIN:VEVENT
DTSTART;TZID=America/New_York:20240603T083000
DTEND;TZID=America/New_York:20240607T153000
DTSTAMP:20260419T181323
CREATED:20240103T220219Z
LAST-MODIFIED:20240103T221932Z
UID:1579-1717403400-1717774200@hightowertrailbsa.com
SUMMARY:2024 - Cub Scout Day Camp
DESCRIPTION:Who:   All Cub Scouts and many of their Akelas Rising Tigers must be accompanied 1:1 \n*** Volunteers needed for all ranks *** \nWhat:  A week of scouting fun\, archery\, BB’s\, knots\, maps\, games\, crafts\, and more! \nWhen:  Registration opening soon for June 3-7 8:30-3:30 \nWhere:   On the grounds of Chamblee UMC\, 4147 Chamblee Dunwoody Rd \nCost:  Early registration: Rising Tigers-Bears: $125\, Rising WEBELOS and AOLs: $135\, Weeklong volunteer families get 50% rebate \nDownload Flyer!\n 
URL:https://hightowertrailbsa.com/event/2024-cub-scout-day-camp/
LOCATION:Chamblee First United Methodist Church\, 4147 Chamblee Dunwoody Road\, Chamblee\, GA\, 30341\, United States
CATEGORIES:Cub Scouts,Day Camp
ATTACH;FMTTYPE=image/png:https://hightowertrailbsa.com/wp-content/uploads/2024/01/2024_Cub_Scout_Day_Camp.png
END:VEVENT
BEGIN:VEVENT
DTSTART;TZID=America/New_York:20240608T080000
DTEND;TZID=America/New_York:20240608T170000
DTSTAMP:20260419T181323
CREATED:20240426T141454Z
LAST-MODIFIED:20240426T144754Z
UID:2104-1717833600-1717866000@hightowertrailbsa.com
SUMMARY:Aquatics Merit Badge Day - 2 of 9 - 2024
DESCRIPTION:Scouts have the opportunity to earn aquatics-themed merit badges nine different weekends between June 1st to August 10th at the Allatoona Aquatics Base! With 10 different merit badge offerings\, Scouts can learn new skills only available during the warm summer months. \nAquatics Merit Badge Days will be held on Saturdays from 8am – 5pm. All participants\, Scouts and Adults\, who will be in the water or near the water and in boats will be required to take and pass the BSA Swimmer Classification test for each Merit Badge they take each week. \nAquatics MB days Flyer \nJune 8th Merit Badge Offerings\nKayaking\nFly Fishing\nLifesaving\nStand Up Paddleboarding\nCanoeing\nRowing
URL:https://hightowertrailbsa.com/event/aquatics-merit-badge-day-2-of-9-2024/
LOCATION:Allatoona Aquatics Base\, 200 Lovingood Rd\, Woodstock\, GA\, 30189\, United States
ATTACH;FMTTYPE=image/png:https://hightowertrailbsa.com/wp-content/uploads/2024/04/Aquatics-Merit-Badge-Days.png
END:VEVENT
BEGIN:VEVENT
DTSTART;TZID=America/New_York:20240609T150000
DTEND;TZID=America/New_York:20240609T170000
DTSTAMP:20260419T181323
CREATED:20240206T202005Z
LAST-MODIFIED:20240207T163936Z
UID:1885-1717945200-1717952400@hightowertrailbsa.com
SUMMARY:June Eagle Board of Review - 2024
DESCRIPTION:This is the day for Eagle Board of Review (EBOR). Scouts needing their EBOR will have an email sent to them by the District Advancement Chair to let them know which EBOR to attend.\nMake sure to bring: \n\nYour Original Eagle Scout Rank Application (Received a copy of Approved Eagle application from AAC)\nOriginal and two copies of Eagle Project booklet (all three parts and project approval letter from district) with all signature pages signed\nLetters of Recommendation in sealed envelopes via USPS\nScout handbook and complete advancement report\nEagle Scout Statement of Ambitions and Life Goals\nFull Scout uniform including merit badge sash\nTwo members of the troop committee to serve on the Board of Review. Please note that Scoutmaster\, Life to Eagle Advisor or the Scout’s parents or other relatives are not permitted to serve on the Board. The Troop (Committee Chair or Scoutmaster or Life to Eagle Advisor) should recruit members to serve on the review committee. The Scout or his family should not be involved in selecting members for the review committee\nA Scoutmaster or other scout leader who can introduce you to the Board\nA camera\, your family\, Scout smiles and Scout Spirit! You’ve worked hard for this moment!
URL:https://hightowertrailbsa.com/event/june-eagle-board-of-review-2024/
LOCATION:Kingswood UMC\, 4896 N Peachtree Road\, Dunwoody\, GA\, 30338\, United States
ATTACH;FMTTYPE=image/png:https://hightowertrailbsa.com/wp-content/uploads/2024/02/Eagle-patch-insignia-SBBC-e1707249490355.png
END:VEVENT
BEGIN:VEVENT
DTSTART;TZID=America/New_York:20240615T080000
DTEND;TZID=America/New_York:20240615T170000
DTSTAMP:20260419T181323
CREATED:20240426T144211Z
LAST-MODIFIED:20240426T144211Z
UID:2111-1718438400-1718470800@hightowertrailbsa.com
SUMMARY:Aquatics Merit Badge Day - 3 of 9 - 2024
DESCRIPTION:Scouts have the opportunity to earn aquatics-themed merit badges nine different weekends between June 1st to August 10th at the Allatoona Aquatics Base! With 10 different merit badge offerings\, Scouts can learn new skills only available during the warm summer months. \nAquatics Merit Badge Days will be held on Saturdays from 8am – 5pm. All participants\, Scouts and Adults\, who will be in the water or near the water and in boats will be required to take and pass the BSA Swimmer Classification test for each Merit Badge they take each week. \nAquatics MB days Flyer \nJune 15th Merit Badge Offerings\nCanoeing\nFishing\nKayaking\nSmall Boat Sailing\nSwimming
URL:https://hightowertrailbsa.com/event/aquatics-merit-badge-day-3-of-9-2024/
LOCATION:Allatoona Aquatics Base\, 200 Lovingood Rd\, Woodstock\, GA\, 30189\, United States
ATTACH;FMTTYPE=image/png:https://hightowertrailbsa.com/wp-content/uploads/2024/04/Aquatics-Merit-Badge-Days.png
END:VEVENT
BEGIN:VEVENT
DTSTART;TZID=America/New_York:20240622T080000
DTEND;TZID=America/New_York:20240622T170000
DTSTAMP:20260419T181323
CREATED:20240426T150216Z
LAST-MODIFIED:20240426T150246Z
UID:2118-1719043200-1719075600@hightowertrailbsa.com
SUMMARY:Aquatics Merit Badge Day - 4 of 9 - 2024
DESCRIPTION:Scouts have the opportunity to earn aquatics-themed merit badges nine different weekends between June 1st to August 10th at the Allatoona Aquatics Base! With 10 different merit badge offerings\, Scouts can learn new skills only available during the warm summer months. \nAquatics Merit Badge Days will be held on Saturdays from 8am – 5pm. All participants\, Scouts and Adults\, who will be in the water or near the water and in boats will be required to take and pass the BSA Swimmer Classification test for each Merit Badge they take each week. \nAquatics MB days Flyer \nJune 22nd Merit Badge Offerings\nCanoeing\nFly Fishing\nKayaking\nLifesaving\nRowing\nStand Up Paddleboarding
URL:https://hightowertrailbsa.com/event/aquatics-merit-badge-day-4-of-9-2024/
LOCATION:Allatoona Aquatics Base\, 200 Lovingood Rd\, Woodstock\, GA\, 30189\, United States
ATTACH;FMTTYPE=image/png:https://hightowertrailbsa.com/wp-content/uploads/2024/04/Aquatics-Merit-Badge-Days.png
END:VEVENT
BEGIN:VEVENT
DTSTART;TZID=America/New_York:20240629T080000
DTEND;TZID=America/New_York:20240629T170000
DTSTAMP:20260419T181323
CREATED:20240426T151107Z
LAST-MODIFIED:20240426T151107Z
UID:2120-1719648000-1719680400@hightowertrailbsa.com
SUMMARY:Aquatics Merit Badge Day - 5 of 9 - 2024
DESCRIPTION:Scouts have the opportunity to earn aquatics-themed merit badges nine different weekends between June 1st to August 10th at the Allatoona Aquatics Base! With 10 different merit badge offerings\, Scouts can learn new skills only available during the warm summer months. \nAquatics Merit Badge Days will be held on Saturdays from 8am – 5pm. All participants\, Scouts and Adults\, who will be in the water or near the water and in boats will be required to take and pass the BSA Swimmer Classification test for each Merit Badge they take each week. \nAquatics MB days Flyer \nJune 29th Merit Badge Offerings\n \nCanoeing\nFishing\nKayaking\nSmall Boat Sailing\nSwimming
URL:https://hightowertrailbsa.com/event/aquatics-merit-badge-day-5-of-9-2024/
LOCATION:Allatoona Aquatics Base\, 200 Lovingood Rd\, Woodstock\, GA\, 30189\, United States
ATTACH;FMTTYPE=image/png:https://hightowertrailbsa.com/wp-content/uploads/2024/04/Aquatics-Merit-Badge-Days.png
END:VEVENT
END:VCALENDAR