BEGIN:VCALENDAR
VERSION:2.0
PRODID:-//Hightower Trail District - ECPv6.15.20//NONSGML v1.0//EN
CALSCALE:GREGORIAN
METHOD:PUBLISH
X-WR-CALNAME:Hightower Trail District
X-ORIGINAL-URL:https://hightowertrailbsa.com
X-WR-CALDESC:Events for Hightower Trail District
REFRESH-INTERVAL;VALUE=DURATION:PT1H
X-Robots-Tag:noindex
X-PUBLISHED-TTL:PT1H
BEGIN:VTIMEZONE
TZID:America/New_York
BEGIN:DAYLIGHT
TZOFFSETFROM:-0500
TZOFFSETTO:-0400
TZNAME:EDT
DTSTART:20230312T070000
END:DAYLIGHT
BEGIN:STANDARD
TZOFFSETFROM:-0400
TZOFFSETTO:-0500
TZNAME:EST
DTSTART:20231105T060000
END:STANDARD
BEGIN:DAYLIGHT
TZOFFSETFROM:-0500
TZOFFSETTO:-0400
TZNAME:EDT
DTSTART:20240310T070000
END:DAYLIGHT
BEGIN:STANDARD
TZOFFSETFROM:-0400
TZOFFSETTO:-0500
TZNAME:EST
DTSTART:20241103T060000
END:STANDARD
BEGIN:DAYLIGHT
TZOFFSETFROM:-0500
TZOFFSETTO:-0400
TZNAME:EDT
DTSTART:20250309T070000
END:DAYLIGHT
BEGIN:STANDARD
TZOFFSETFROM:-0400
TZOFFSETTO:-0500
TZNAME:EST
DTSTART:20251102T060000
END:STANDARD
END:VTIMEZONE
BEGIN:VEVENT
DTSTART;TZID=America/New_York:20241108T080000
DTEND;TZID=America/New_York:20241108T170000
DTSTAMP:20260420T100208
CREATED:20241008T150312Z
LAST-MODIFIED:20241008T150445Z
UID:2680-1731052800-1731085200@hightowertrailbsa.com
SUMMARY:2024 - Fall Induction and Fellowship
DESCRIPTION:The Ordeal is a weekend experience in which those elected or selected learn about the customs and traditions of the Order of the Arrow and undertake a spiritual journey to discover the true meanings of leadership\, service and the Brotherhood of Scouting.
URL:https://hightowertrailbsa.com/event/2024-fall-induction-and-fellowship/
LOCATION:Bert Adams Scout Camp\, 218 Scout Rd\, Covington\, GA\, 30016\, United States
CATEGORIES:Order of the Arrow
ATTACH;FMTTYPE=image/png:https://hightowertrailbsa.com/wp-content/uploads/2024/01/egwa129flap1.png
END:VEVENT
BEGIN:VEVENT
DTSTART;TZID=America/New_York:20241108T170000
DTEND;TZID=America/New_York:20241110T120000
DTSTAMP:20260420T100208
CREATED:20240911T140342Z
LAST-MODIFIED:20240911T140421Z
UID:2639-1731085200-1731240000@hightowertrailbsa.com
SUMMARY:2024 - Conservation Weekend
DESCRIPTION:Come join us for a weekend of conservation Merit Badges and activities. There are 3 sessions available to fill with 19 different Merit Badges\, conservation projects and other trainings. \nNew! Angling Educator\nAngling Educator is a national course taught by a BSA Certified Angling Instructor. Angling Educators learn age-based and skills-appropriate fishing tools and techniques for simple cane pole and spin cast fishing. It prepares leaders to teach fishing skills\, and plan and run fishing events for their troop\, district\, or council. \nNew! Earth Tribe Challenge\nThe Earth Tribe is a global community of young people who are passionate about the environment and actively engaged as a global citizens to preserve and protect our planet.  The Earth Tribe guides young people on an educational journey to develop the awareness\, competencies and leadership skills necessary to create environmental change in their communities.  Through a series of exciting Earth Tribe Challenges\, young people learn how to connect with nature\, become champions for sustainability\, and engage in taking action for the environment.  To be a member of the Earth Tribe is a personal commitment to improve the health of the planet and make the world a better place
URL:https://hightowertrailbsa.com/event/2024-conservation-weekend/
LOCATION:Woodruff Scout Camp\, 31 Woodruff Drive\, Blairsville\, GA\, 30512\, United States
CATEGORIES:Advancement
ATTACH;FMTTYPE=image/png:https://hightowertrailbsa.com/wp-content/uploads/2024/09/Conservation-Weekend.png
END:VEVENT
BEGIN:VEVENT
DTSTART;TZID=America/New_York:20241110T150000
DTEND;TZID=America/New_York:20241110T170000
DTSTAMP:20260420T100208
CREATED:20240207T163634Z
LAST-MODIFIED:20240207T164238Z
UID:1896-1731250800-1731258000@hightowertrailbsa.com
SUMMARY:November Eagle Board of Review - 2024
DESCRIPTION:This is the day for Eagle Board of Review (EBOR). Scouts needing their EBOR will have an email sent to them by the District Advancement Chair to let them know which EBOR to attend.\nMake sure to bring: \n\nYour Original Eagle Scout Rank Application (Received a copy of Approved Eagle application from AAC)\nOriginal and two copies of Eagle Project booklet (all three parts and project approval letter from district) with all signature pages signed\nLetters of Recommendation in sealed envelopes via USPS\nScout handbook and complete advancement report\nEagle Scout Statement of Ambitions and Life Goals\nFull Scout uniform including merit badge sash\nTwo members of the troop committee to serve on the Board of Review. Please note that Scoutmaster\, Life to Eagle Advisor or the Scout’s parents or other relatives are not permitted to serve on the Board. The Troop (Committee Chair or Scoutmaster or Life to Eagle Advisor) should recruit members to serve on the review committee. The Scout or his family should not be involved in selecting members for the review committee\nA Scoutmaster or other scout leader who can introduce you to the Board\nA camera\, your family\, Scout smiles and Scout Spirit! You’ve worked hard for this moment!
URL:https://hightowertrailbsa.com/event/november-eagle-board-of-review-2024/
LOCATION:Kingswood UMC\, 4896 N Peachtree Road\, Dunwoody\, GA\, 30338\, United States
ATTACH;FMTTYPE=image/png:https://hightowertrailbsa.com/wp-content/uploads/2024/02/Eagle-patch-insignia-SBBC-e1707249490355.png
END:VEVENT
BEGIN:VEVENT
DTSTART;TZID=America/New_York:20241121T190000
DTEND;TZID=America/New_York:20241121T200000
DTSTAMP:20260420T100208
CREATED:20240117T160215Z
LAST-MODIFIED:20240912T152018Z
UID:1774-1732215600-1732219200@hightowertrailbsa.com
SUMMARY:November Roundtable - 2024
DESCRIPTION:Join us as we discuss Crossover best practices and onboarding techniques for new Scouts and new parents.\n\n 
URL:https://hightowertrailbsa.com/event/november-roundtable-2024/
LOCATION:Oak Grove UMC\, 1722 Oak Grove Road\, Decatur\, GA\, 30033\, United States
CATEGORIES:Roundtable
ATTACH;FMTTYPE=image/png:https://hightowertrailbsa.com/wp-content/uploads/2023/07/HightowerTrail-RoundTable-e1705505657264.png
END:VEVENT
END:VCALENDAR