BEGIN:VCALENDAR
VERSION:2.0
PRODID:-//Hightower Trail District - ECPv6.15.20//NONSGML v1.0//EN
CALSCALE:GREGORIAN
METHOD:PUBLISH
X-ORIGINAL-URL:https://hightowertrailbsa.com
X-WR-CALDESC:Events for Hightower Trail District
REFRESH-INTERVAL;VALUE=DURATION:PT1H
X-Robots-Tag:noindex
X-PUBLISHED-TTL:PT1H
BEGIN:VTIMEZONE
TZID:America/New_York
BEGIN:DAYLIGHT
TZOFFSETFROM:-0500
TZOFFSETTO:-0400
TZNAME:EDT
DTSTART:20230312T070000
END:DAYLIGHT
BEGIN:STANDARD
TZOFFSETFROM:-0400
TZOFFSETTO:-0500
TZNAME:EST
DTSTART:20231105T060000
END:STANDARD
BEGIN:DAYLIGHT
TZOFFSETFROM:-0500
TZOFFSETTO:-0400
TZNAME:EDT
DTSTART:20240310T070000
END:DAYLIGHT
BEGIN:STANDARD
TZOFFSETFROM:-0400
TZOFFSETTO:-0500
TZNAME:EST
DTSTART:20241103T060000
END:STANDARD
BEGIN:DAYLIGHT
TZOFFSETFROM:-0500
TZOFFSETTO:-0400
TZNAME:EDT
DTSTART:20250309T070000
END:DAYLIGHT
BEGIN:STANDARD
TZOFFSETFROM:-0400
TZOFFSETTO:-0500
TZNAME:EST
DTSTART:20251102T060000
END:STANDARD
END:VTIMEZONE
BEGIN:VEVENT
DTSTART;TZID=America/New_York:20241206T120000
DTEND;TZID=America/New_York:20241206T140000
DTSTAMP:20260420T112442
CREATED:20241009T003027Z
LAST-MODIFIED:20241009T003027Z
UID:2695-1733486400-1733493600@hightowertrailbsa.com
SUMMARY:2024 - Golden Eagle Luncheon
DESCRIPTION:This year’s Friends of Scouting event will be held at the Cobb Galleria Centre on December 6th\, 2024. Registration and fellowship will start at 11:30 AM with the program beginning at 12:00 PM EST. Ted Decker\, Chairman\, President\, and CEO of The Home Depot\, is this year’s Golden Eagle Keynote Speaker! \nScouting makes a dramatic\, positive impact on Atlanta’s youth\, our families\, and our communities\, but it won’t happen without your support. \nYour gift to Friends of Scouting provides trained leaders\, program materials\, camping facilities\, and insurance for safe and fun experiences. The annual Friends of Scouting campaign provides 27% of our Council’s budget. It is because of the generosity of our Scouting families and community supporters that the amazing benefits of Scouting are possible in Atlanta.
URL:https://hightowertrailbsa.com/event/2024-golden-eagle-luncheon/
LOCATION:Cobb Galleria Centre\, Two Galleria Parkway\, Atlanta\, GA\, 30339\, United States
ATTACH;FMTTYPE=image/jpeg:https://hightowertrailbsa.com/wp-content/uploads/2024/10/2024-golden-eagle-luncheon_header_v2-01.jpg
END:VEVENT
BEGIN:VEVENT
DTSTART;TZID=America/New_York:20241208T150000
DTEND;TZID=America/New_York:20241208T170000
DTSTAMP:20260420T112442
CREATED:20240207T163828Z
LAST-MODIFIED:20240207T163828Z
UID:1898-1733670000-1733677200@hightowertrailbsa.com
SUMMARY:December Eagle Board of Review - 2024
DESCRIPTION:This is the day for Eagle Board of Review (EBOR). Scouts needing their EBOR will have an email sent to them by the District Advancement Chair to let them know which EBOR to attend.\nMake sure to bring: \n\nYour Original Eagle Scout Rank Application (Received a copy of Approved Eagle application from AAC)\nOriginal and two copies of Eagle Project booklet (all three parts and project approval letter from district) with all signature pages signed\nLetters of Recommendation in sealed envelopes via USPS\nScout handbook and complete advancement report\nEagle Scout Statement of Ambitions and Life Goals\nFull Scout uniform including merit badge sash\nTwo members of the troop committee to serve on the Board of Review. Please note that Scoutmaster\, Life to Eagle Advisor or the Scout’s parents or other relatives are not permitted to serve on the Board. The Troop (Committee Chair or Scoutmaster or Life to Eagle Advisor) should recruit members to serve on the review committee. The Scout or his family should not be involved in selecting members for the review committee\nA Scoutmaster or other scout leader who can introduce you to the Board\nA camera\, your family\, Scout smiles and Scout Spirit! You’ve worked hard for this moment!
URL:https://hightowertrailbsa.com/event/december-eagle-board-of-review-2024/
LOCATION:Kingswood UMC\, 4896 N Peachtree Road\, Dunwoody\, GA\, 30338\, United States
ATTACH;FMTTYPE=image/png:https://hightowertrailbsa.com/wp-content/uploads/2024/02/Eagle-patch-insignia-SBBC-e1707249490355.png
END:VEVENT
BEGIN:VEVENT
DTSTART;TZID=America/New_York:20241214T083000
DTEND;TZID=America/New_York:20241214T150000
DTSTAMP:20260420T112442
CREATED:20241008T150828Z
LAST-MODIFIED:20241008T150828Z
UID:2682-1734165000-1734188400@hightowertrailbsa.com
SUMMARY:2024 - December - Lodge Day of Service
DESCRIPTION:Day of Service
URL:https://hightowertrailbsa.com/event/2024-december-lodge-day-of-service/
LOCATION:East View Cemetery\, 56 4th Ave SE\, Atlanta\, GA\, 30317\, United States
CATEGORIES:Order of the Arrow
ATTACH;FMTTYPE=image/png:https://hightowertrailbsa.com/wp-content/uploads/2024/01/800px-Order_of_the_Arrow.svg1_.png
END:VEVENT
BEGIN:VEVENT
DTSTART;TZID=America/New_York:20241219T190000
DTEND;TZID=America/New_York:20241219T203000
DTSTAMP:20260420T112442
CREATED:20241202T164028Z
LAST-MODIFIED:20241202T164154Z
UID:2837-1734634800-1734640200@hightowertrailbsa.com
SUMMARY:December Roundtable - 2024
DESCRIPTION:Cheers to Adventure! \nCome to Napoleon’s for a social to enjoy your Scouting friends and celebrate the year.   Just a casual thing\, no catering.  Leave the uniform at home – Partners are welcome!
URL:https://hightowertrailbsa.com/event/december-roundtable-2024/
LOCATION:Napoleon’s\, 2836 Lavista Rd\, Decatur\, GA\, 30033\, United States
CATEGORIES:Roundtable
ATTACH;FMTTYPE=image/png:https://hightowertrailbsa.com/wp-content/uploads/2024/04/Hightower-Trail-Roundtable-Graphic.png
END:VEVENT
BEGIN:VEVENT
DTSTART;VALUE=DATE:20241227
DTEND;VALUE=DATE:20250101
DTSTAMP:20260420T112442
CREATED:20240911T185513Z
LAST-MODIFIED:20240911T185513Z
UID:2652-1735257600-1735689599@hightowertrailbsa.com
SUMMARY:2024 - Winter Camp - Bert Adams
DESCRIPTION:Experience Four Nights of Fun-Filled Scouting at Bert Adams Winter Camp!\nThe Atlanta Area Council is proud to offer Winter Camp at Bert Adams Scout Camp for Scouts BSA Troops and Venturing Crews. For 5 days and 4 nights in December\, Scouts BSA and Venturers will have the opportunity to camp and play at one of America’s premier camps.
URL:https://hightowertrailbsa.com/event/2024-winter-camp-bert-adams/
LOCATION:Bert Adams Scout Camp\, 218 Scout Rd\, Covington\, GA\, 30016\, United States
CATEGORIES:Advancement,Bert Adams
ATTACH;FMTTYPE=image/png:https://hightowertrailbsa.com/wp-content/uploads/2024/09/2024_wintercamp_headeremail-011.png
END:VEVENT
END:VCALENDAR