BEGIN:VCALENDAR
VERSION:2.0
PRODID:-//Hightower Trail District - ECPv6.15.20//NONSGML v1.0//EN
CALSCALE:GREGORIAN
METHOD:PUBLISH
X-ORIGINAL-URL:https://hightowertrailbsa.com
X-WR-CALDESC:Events for Hightower Trail District
REFRESH-INTERVAL;VALUE=DURATION:PT1H
X-Robots-Tag:noindex
X-PUBLISHED-TTL:PT1H
BEGIN:VTIMEZONE
TZID:America/New_York
BEGIN:DAYLIGHT
TZOFFSETFROM:-0500
TZOFFSETTO:-0400
TZNAME:EDT
DTSTART:20240310T070000
END:DAYLIGHT
BEGIN:STANDARD
TZOFFSETFROM:-0400
TZOFFSETTO:-0500
TZNAME:EST
DTSTART:20241103T060000
END:STANDARD
BEGIN:DAYLIGHT
TZOFFSETFROM:-0500
TZOFFSETTO:-0400
TZNAME:EDT
DTSTART:20250309T070000
END:DAYLIGHT
BEGIN:STANDARD
TZOFFSETFROM:-0400
TZOFFSETTO:-0500
TZNAME:EST
DTSTART:20251102T060000
END:STANDARD
BEGIN:DAYLIGHT
TZOFFSETFROM:-0500
TZOFFSETTO:-0400
TZNAME:EDT
DTSTART:20260308T070000
END:DAYLIGHT
BEGIN:STANDARD
TZOFFSETFROM:-0400
TZOFFSETTO:-0500
TZNAME:EST
DTSTART:20261101T060000
END:STANDARD
END:VTIMEZONE
BEGIN:VEVENT
DTSTART;TZID=America/New_York:20250201T090000
DTEND;TZID=America/New_York:20250201T150000
DTSTAMP:20260420T100518
CREATED:20241212T194455Z
LAST-MODIFIED:20241212T194455Z
UID:2862-1738400400-1738422000@hightowertrailbsa.com
SUMMARY:2025 - Cub Family STEM Day
DESCRIPTION:Experience a day of dynamic adventures with hands-on science at Cub Family STEM Day at Bert Adams Scout Camp on Saturday\, February 1! \nIn the morning\, following the opening flag ceremony at 9 am\, Cubs will participate in three 45-minute STEM adventure zones – make fluffy slime\, watch the crazy explosion from Diet Coke and Mentos geysers\, launch film canister rockets\, make hand warmers\, and more! \nAt noon\, enjoy lunch with a fabulous special guest presenter! In the afternoon\, participate in range and target activities\, enjoy fishing on your own\, or take part in more hands-on science experiments at your leisure until 3 pm! \nDon’t miss out on this incredible STEM Day!
URL:https://hightowertrailbsa.com/event/2025-cub-family-stem-day/
LOCATION:Bert Adams Scout Camp\, 218 Scout Rd\, Covington\, GA\, 30016\, United States
CATEGORIES:Bert Adams,Cub Scouts
ATTACH;FMTTYPE=image/png:https://hightowertrailbsa.com/wp-content/uploads/2024/12/cubstemday_header-011.png
END:VEVENT
BEGIN:VEVENT
DTSTART;TZID=America/New_York:20250209T150000
DTEND;TZID=America/New_York:20250209T170000
DTSTAMP:20260420T100518
CREATED:20241217T172831Z
LAST-MODIFIED:20241217T172831Z
UID:2869-1739113200-1739120400@hightowertrailbsa.com
SUMMARY:February Eagle Board of Review - 2025
DESCRIPTION:This is the day for Eagle Board of Review (EBOR). Scouts needing their EBOR will have an email sent to them by the District Advancement Chair to let them know which EBOR to attend.\nMake sure to bring: \n\nYour Original Eagle Scout Rank Application (Received a copy of Approved Eagle application from AAC)\nOriginal and two copies of Eagle Project booklet (all three parts and project approval letter from district) with all signature pages signed\nLetters of Recommendation in sealed envelopes via USPS\nScout handbook and complete advancement report\nEagle Scout Statement of Ambitions and Life Goals\nFull Scout uniform including merit badge sash\nTwo members of the troop committee to serve on the Board of Review. Please note that Scoutmaster\, Life to Eagle Advisor or the Scout’s parents or other relatives are not permitted to serve on the Board. The Troop (Committee Chair or Scoutmaster or Life to Eagle Advisor) should recruit members to serve on the review committee. The Scout or his family should not be involved in selecting members for the review committee\nA Scoutmaster or other scout leader who can introduce you to the Board\nA camera\, your family\, Scout smiles and Scout Spirit! You’ve worked hard for this moment!
URL:https://hightowertrailbsa.com/event/february-eagle-board-of-review-2025/
LOCATION:Kingswood UMC\, 4896 N Peachtree Road\, Dunwoody\, GA\, 30338\, United States
ATTACH;FMTTYPE=image/png:https://hightowertrailbsa.com/wp-content/uploads/2024/02/Eagle-patch-insignia-SBBC-e1707249490355.png
END:VEVENT
BEGIN:VEVENT
DTSTART;TZID=America/New_York:20250223T183000
DTEND;TZID=America/New_York:20250223T200000
DTSTAMP:20260420T100518
CREATED:20241107T011947Z
LAST-MODIFIED:20250222T153507Z
UID:2813-1740335400-1740340800@hightowertrailbsa.com
SUMMARY:2025 Hightower Trail District Banquet
DESCRIPTION:It’s time to celebrate our year and look back together on all the work our units did last year! Join us for the much-awaited Hightower Trail District Awards Banquet! We will recognize our Hightower Trailblazers\, our District Award of Merit Recipients\, and see what Hightower Trail District is working on for the upcoming year! \n \n  \nWho: Members at Large\, Unit Key 3 & District Volunteers\nWhat: District Awards Banquet\nCost: $28\nWhen: Sunday\, February 23rd\, 2025 @ 6:30 pm\nWhere: Dunwoody Nature Center\n(5343 Roberts Drive\, Dunwoody\, GA 30338)\n \nClick here to RSVP\n  \nMake sure to turn in Nominations \nby 2/15/2025! \nDistrict Award of Merit Nominations: This is a council award presented by districts in the same manner that the Silver Beaver is a national award presented by councils. The award is available to Scouters who render service of an outstanding nature at the district level or in the district as a whole. \nDistrict Award of Merit – Nomination Form\n  \nHightower Trail “Trailblazer” Award Nominations: This Award is designed to recognize a Scouter\, a parent\, or a charter organization partner that has performed exceptional service for your Unit or in the Hightower Trail District. This individual exemplifies the Scout Oath and Law in their daily life and in their work as a leader in their profession\, in Scouting\, and the greater Hightower Trail community. Final selection is made by the District Key 3. \nTrailblazer Award – Nomination Form
URL:https://hightowertrailbsa.com/event/2025-hightower-trail-district-banquet/
LOCATION:Dunwoody Nature Center\, 5343 Roberts Dr\,\, Dunwoody\, GA\, 30338\, United States
END:VEVENT
BEGIN:VEVENT
DTSTART;TZID=America/New_York:20250226T080000
DTEND;TZID=America/New_York:20250226T110000
DTSTAMP:20260420T100518
CREATED:20250207T154057Z
LAST-MODIFIED:20250207T154057Z
UID:2938-1740556800-1740567600@hightowertrailbsa.com
SUMMARY:2025 - Scout Day at the Georgia State Capital
DESCRIPTION:Scouting prepares young people to be good citizens. Spend the day witnessing first-hand the political process in Georgia. Take on the Capitol Scavenger Hunt. Watch your legislators recognize your Scouts from the House Gallery. And have a chance to ask actual representatives your most pressing questions! \nThe Capitol will provide a note explaining the activities the Scouts participated in during the day. Scouts and family may arrive from 8:00 am-8:30 am. The program will begin at 9:00 AM and will end at 11:00 AM. Please check with your school’s administrative staff to determine if this will qualify as an excused absence. Registration costs for this event will be $5 for each participant. Each Scout that registers will receive a patch and a participation certificate. \nREGISTRATION NOW OPEN!
URL:https://hightowertrailbsa.com/event/2025-scout-day-at-the-georgia-state-capital/
LOCATION:Georgia State Capitol\, 206 Washington St.\, S.W.\, Atlanta\, GA\, 30334\, United States
ATTACH;FMTTYPE=image/png:https://hightowertrailbsa.com/wp-content/uploads/2025/02/2025_sdc_banner_rotator_banner1.png
END:VEVENT
BEGIN:VEVENT
DTSTART;TZID=America/New_York:20250227T190000
DTEND;TZID=America/New_York:20250227T203000
DTSTAMP:20260420T100518
CREATED:20241031T142905Z
LAST-MODIFIED:20250228T160322Z
UID:2754-1740682800-1740688200@hightowertrailbsa.com
SUMMARY:February Roundtable - 2025
DESCRIPTION:Annual Planning can take many forms for our Scouting Units.  Come to Oak Grove UMC and we’ll discuss and share ideas! \n\nWelcome & Opening\nIcebreaker – the Months of Scouting\nSafety Moment – Heart Health Awareness and Marfan’s Syndrome Awareness Month\nGuest Speaker\, Mark Ethun\, Pack 4475 Committee Chair – Annual Planning Considerations\nBreakout Session\nDistrict & Council Updates\nClosing
URL:https://hightowertrailbsa.com/event/february-roundtable-2025/
LOCATION:Oak Grove UMC\, 1722 Oak Grove Road\, Decatur\, GA\, 30033\, United States
CATEGORIES:Roundtable
ATTACH;FMTTYPE=image/png:https://hightowertrailbsa.com/wp-content/uploads/2024/04/Hightower-Trail-Roundtable-Graphic.png
END:VEVENT
BEGIN:VEVENT
DTSTART;TZID=America/New_York:20250228T170000
DTEND;TZID=America/New_York:20250302T120000
DTSTAMP:20260420T100518
CREATED:20241008T151244Z
LAST-MODIFIED:20250212T173611Z
UID:2687-1740762000-1740916800@hightowertrailbsa.com
SUMMARY:2025 - OA - Spring Gathering
DESCRIPTION:
URL:https://hightowertrailbsa.com/event/2025-oa-spring-gathering/
LOCATION:Bert Adams Scout Camp\, 218 Scout Rd\, Covington\, GA\, 30016\, United States
CATEGORIES:Order of the Arrow
ATTACH;FMTTYPE=image/png:https://hightowertrailbsa.com/wp-content/uploads/2024/01/egwa129flap1.png
END:VEVENT
END:VCALENDAR