BEGIN:VCALENDAR
VERSION:2.0
PRODID:-//Hightower Trail District - ECPv6.15.20//NONSGML v1.0//EN
CALSCALE:GREGORIAN
METHOD:PUBLISH
X-WR-CALNAME:Hightower Trail District
X-ORIGINAL-URL:https://hightowertrailbsa.com
X-WR-CALDESC:Events for Hightower Trail District
REFRESH-INTERVAL;VALUE=DURATION:PT1H
X-Robots-Tag:noindex
X-PUBLISHED-TTL:PT1H
BEGIN:VTIMEZONE
TZID:America/New_York
BEGIN:DAYLIGHT
TZOFFSETFROM:-0500
TZOFFSETTO:-0400
TZNAME:EDT
DTSTART:20240310T070000
END:DAYLIGHT
BEGIN:STANDARD
TZOFFSETFROM:-0400
TZOFFSETTO:-0500
TZNAME:EST
DTSTART:20241103T060000
END:STANDARD
BEGIN:DAYLIGHT
TZOFFSETFROM:-0500
TZOFFSETTO:-0400
TZNAME:EDT
DTSTART:20250309T070000
END:DAYLIGHT
BEGIN:STANDARD
TZOFFSETFROM:-0400
TZOFFSETTO:-0500
TZNAME:EST
DTSTART:20251102T060000
END:STANDARD
BEGIN:DAYLIGHT
TZOFFSETFROM:-0500
TZOFFSETTO:-0400
TZNAME:EDT
DTSTART:20260308T070000
END:DAYLIGHT
BEGIN:STANDARD
TZOFFSETFROM:-0400
TZOFFSETTO:-0500
TZNAME:EST
DTSTART:20261101T060000
END:STANDARD
END:VTIMEZONE
BEGIN:VEVENT
DTSTART;TZID=America/New_York:20250404T050000
DTEND;TZID=America/New_York:20250406T120000
DTSTAMP:20260420T054933
CREATED:20241008T151112Z
LAST-MODIFIED:20241008T151845Z
UID:2685-1743742800-1743940800@hightowertrailbsa.com
SUMMARY:2025 - OA - Conclave
DESCRIPTION:
URL:https://hightowertrailbsa.com/event/2025-oa-conclave/
LOCATION:Bert Adams Scout Camp\, 218 Scout Rd\, Covington\, GA\, 30016\, United States
CATEGORIES:Order of the Arrow
ATTACH;FMTTYPE=image/png:https://hightowertrailbsa.com/wp-content/uploads/2024/01/egwa129flap1.png
END:VEVENT
BEGIN:VEVENT
DTSTART;TZID=America/New_York:20250412T080000
DTEND;TZID=America/New_York:20250412T120000
DTSTAMP:20260420T054933
CREATED:20250203T205010Z
LAST-MODIFIED:20250203T205051Z
UID:2929-1744444800-1744459200@hightowertrailbsa.com
SUMMARY:2025 - Heritage Hike
DESCRIPTION:On April 12\, 2025\, you are invited to join hundreds of Scouts and Atlanta community members on the Heritage Hike! Tour Atlanta’s historic and active centers for our nation’s civil rights! \nJoin the parade down Auburn Ave to the APEX Museum and explore Sweet Auburn Avenue. Learn the cultural significance of one of the most vibrant and successful African American neighborhoods of the Civil Rights Era.
URL:https://hightowertrailbsa.com/event/2025-heritage-hike/
LOCATION:GA
ATTACH;FMTTYPE=image/jpeg:https://hightowertrailbsa.com/wp-content/uploads/2024/01/aac_heritage-hike-web-banner1.jpg
END:VEVENT
BEGIN:VEVENT
DTSTART;TZID=America/New_York:20250413T130000
DTEND;TZID=America/New_York:20250413T163000
DTSTAMP:20260420T054933
CREATED:20250404T213322Z
LAST-MODIFIED:20250404T213322Z
UID:3042-1744549200-1744561800@hightowertrailbsa.com
SUMMARY:Spring 2025 - Atlanta Hawks Scout Day
DESCRIPTION:Join us on Sunday\, April 13th at State Farm Arena as the Atlanta Hawks take on the Orlando Magic. Each ticket purchased through this offer includes a fundraiser that will benefit Scouting America. Each ticket includes $10 worth of food and beverage credit that can be used at our restaurants inside the arena the day of the game. \nTicket prices are subject to increase. Tickets are based on availability and will sell out. Purchase your tickets today!
URL:https://hightowertrailbsa.com/event/spring-2025-atlanta-hawks-scout-day/
LOCATION:State Farm Arena\, 1 State Farm Dr\, Atlanta\, GA\, 30303\, United States
ATTACH;FMTTYPE=image/png:https://hightowertrailbsa.com/wp-content/uploads/2024/01/Atlanta-Hawks-Basketball-e1705371728479.png
END:VEVENT
BEGIN:VEVENT
DTSTART;TZID=America/New_York:20250413T150000
DTEND;TZID=America/New_York:20250413T170000
DTSTAMP:20260420T054933
CREATED:20241217T173200Z
LAST-MODIFIED:20241217T173200Z
UID:2873-1744556400-1744563600@hightowertrailbsa.com
SUMMARY:April Eagle Board of Review - 2025
DESCRIPTION:This is the day for Eagle Board of Review (EBOR). Scouts needing their EBOR will have an email sent to them by the District Advancement Chair to let them know which EBOR to attend.\nMake sure to bring: \n\nYour Original Eagle Scout Rank Application (Received a copy of Approved Eagle application from AAC)\nOriginal and two copies of Eagle Project booklet (all three parts and project approval letter from district) with all signature pages signed\nLetters of Recommendation in sealed envelopes via USPS\nScout handbook and complete advancement report\nEagle Scout Statement of Ambitions and Life Goals\nFull Scout uniform including merit badge sash\nTwo members of the troop committee to serve on the Board of Review. Please note that Scoutmaster\, Life to Eagle Advisor or the Scout’s parents or other relatives are not permitted to serve on the Board. The Troop (Committee Chair or Scoutmaster or Life to Eagle Advisor) should recruit members to serve on the review committee. The Scout or his family should not be involved in selecting members for the review committee\nA Scoutmaster or other scout leader who can introduce you to the Board\nA camera\, your family\, Scout smiles and Scout Spirit! You’ve worked hard for this moment!
URL:https://hightowertrailbsa.com/event/april-eagle-board-of-review-2025/
LOCATION:Kingswood UMC\, 4896 N Peachtree Road\, Dunwoody\, GA\, 30338\, United States
ATTACH;FMTTYPE=image/png:https://hightowertrailbsa.com/wp-content/uploads/2024/02/Eagle-patch-insignia-SBBC-e1707249490355.png
END:VEVENT
BEGIN:VEVENT
DTSTART;TZID=America/New_York:20250424T190000
DTEND;TZID=America/New_York:20250424T203000
DTSTAMP:20260420T054933
CREATED:20241031T143614Z
LAST-MODIFIED:20250403T165139Z
UID:2762-1745521200-1745526600@hightowertrailbsa.com
SUMMARY:April Roundtable - 2025
DESCRIPTION:Join us for the April Roundtable for Hightower Trail District. We encourage anyone who would like to attend Roundtable to come to the venue. Every other month we change between two locations for the Roundtable event. If you are unable to join us at the venue\, this webinar is provided so that you may participate. \nSubject \n\nSummer Camp Best Practices\nCub Scout Engagement over Summer Break\n\nWhile we would prefer you to attend this roundtable\, if you are unable to attend in person\, this webinar will allow you to attend virtually: https://hightowertrailbsa.com/Roundtable-Webinar
URL:https://hightowertrailbsa.com/event/april-roundtable-2025/
LOCATION:Oak Grove UMC\, 1722 Oak Grove Road\, Decatur\, GA\, 30033\, United States
CATEGORIES:Roundtable
ATTACH;FMTTYPE=image/png:https://hightowertrailbsa.com/wp-content/uploads/2024/04/Hightower-Trail-Roundtable-Graphic.png
END:VEVENT
BEGIN:VEVENT
DTSTART;VALUE=DATE:20250425
DTEND;VALUE=DATE:20250428
DTSTAMP:20260420T054933
CREATED:20250305T160731Z
LAST-MODIFIED:20250305T160731Z
UID:2984-1745539200-1745798399@hightowertrailbsa.com
SUMMARY:Cub Scout Spring Family Campout
DESCRIPTION:Registration is open\, see https://www.campbertadams.org/springfamily for information.
URL:https://hightowertrailbsa.com/event/cub-scout-spring-family-campout/
LOCATION:Bert Adams Scout Camp\, 218 Scout Rd\, Covington\, GA\, 30016\, United States
CATEGORIES:Bert Adams,Cub Scouts,Cub-A-Ree
END:VEVENT
BEGIN:VEVENT
DTSTART;TZID=America/New_York:20250426T070000
DTEND;TZID=America/New_York:20250426T173000
DTSTAMP:20260420T054933
CREATED:20250403T202222Z
LAST-MODIFIED:20250404T213430Z
UID:3036-1745650800-1745688600@hightowertrailbsa.com
SUMMARY:April 2025 - S.T.E.M. Merit Badge Summit
DESCRIPTION:All classes will be 4 hours in length. Classes will usually be offered either from 8 AM – 12 PM or 1:00 PM – 5:00PM. If you are staying all day\, please bring a lunch or purchase a Chick-Fil-A lunch for $13 from the class section in your registration. The lunch option will close April 20th. \nAll classes will be held in the Atrium Building\, but we will be meeting for check-in in the Acedemic Building Auditorium
URL:https://hightowertrailbsa.com/event/april-2025-s-t-e-m-merit-badge-summit/
LOCATION:KSU Marietta Campus\, 1100 South Marietta Pkwy SE\, Marietta\, 30060\, United States
ATTACH;FMTTYPE=image/jpeg:https://hightowertrailbsa.com/wp-content/uploads/2024/03/merit-badge-summit-graphic.jpg
END:VEVENT
END:VCALENDAR