BEGIN:VCALENDAR
VERSION:2.0
PRODID:-//Hightower Trail District - ECPv6.15.20//NONSGML v1.0//EN
CALSCALE:GREGORIAN
METHOD:PUBLISH
X-WR-CALNAME:Hightower Trail District
X-ORIGINAL-URL:https://hightowertrailbsa.com
X-WR-CALDESC:Events for Hightower Trail District
REFRESH-INTERVAL;VALUE=DURATION:PT1H
X-Robots-Tag:noindex
X-PUBLISHED-TTL:PT1H
BEGIN:VTIMEZONE
TZID:America/New_York
BEGIN:DAYLIGHT
TZOFFSETFROM:-0500
TZOFFSETTO:-0400
TZNAME:EDT
DTSTART:20240310T070000
END:DAYLIGHT
BEGIN:STANDARD
TZOFFSETFROM:-0400
TZOFFSETTO:-0500
TZNAME:EST
DTSTART:20241103T060000
END:STANDARD
BEGIN:DAYLIGHT
TZOFFSETFROM:-0500
TZOFFSETTO:-0400
TZNAME:EDT
DTSTART:20250309T070000
END:DAYLIGHT
BEGIN:STANDARD
TZOFFSETFROM:-0400
TZOFFSETTO:-0500
TZNAME:EST
DTSTART:20251102T060000
END:STANDARD
BEGIN:DAYLIGHT
TZOFFSETFROM:-0500
TZOFFSETTO:-0400
TZNAME:EDT
DTSTART:20260308T070000
END:DAYLIGHT
BEGIN:STANDARD
TZOFFSETFROM:-0400
TZOFFSETTO:-0500
TZNAME:EST
DTSTART:20261101T060000
END:STANDARD
END:VTIMEZONE
BEGIN:VEVENT
DTSTART;TZID=America/New_York:20251009T190000
DTEND;TZID=America/New_York:20251009T200000
DTSTAMP:20260419T123425
CREATED:20250909T210025Z
LAST-MODIFIED:20250909T210830Z
UID:3746-1760036400-1760040000@hightowertrailbsa.com
SUMMARY:2025 - Annual Business Meeting
DESCRIPTION:Elections for Officers and Members at Large for 2025-2026\nElections will be held at the Hightower Trail District Annual Business Meeting to be held October 9\, 2025\, at 7:00 pm. This event will be held at Chamblee First United Methodist Church. \nEligible Voters – Currently Registered Scouters holding the following positions:\n\nChartered Organization Representatives of BSA Units within the District\n2024-2025 District Members at Large\n2024-2025 Atlanta Area Council Members at Large and Council Committee residing within the bounds of the district.\n\nSlates to be presented:\n\nDistrict Members at Large\nDistrict Chair\nDistrict Vice Chairs\nDistrict Commissioner (recommendation)\n\n2025 District Nominating Committee members:\nLalith Silva \nRecommendation of Candidates:\n\nAll currently registered Scouters of Hightower Trail are eligible to recommend candidates for District Office and Members at Large for 2025 – 2026 to the Nominating Committee.\nRecommendations must be submitted to the committee in writing no later than September 25th\, 2025.\nPlease submit your recommendations to Lalith Silva\, by electronic mail at lalith.k.silva@gmail.com.\n\nNotes:\n\nThe District Chair\, Vice Chairs\, and Members at Large assume their respective roles immediately following the annual business meeting.\nThe nominee for District Commissioner is recommended to the Board of Directors of the Atlanta Area Council and does not assume that post until the Atlanta Area Council Board’s approval.
URL:https://hightowertrailbsa.com/event/2025-annual-business-meeting/
LOCATION:Chamblee First United Methodist Church\, 4147 Chamblee Dunwoody Road\, Chamblee\, GA\, 30341\, United States
ATTACH;FMTTYPE=image/jpeg:https://hightowertrailbsa.com/wp-content/uploads/2018/11/2C_Gray-Red_sm.jpg
END:VEVENT
BEGIN:VEVENT
DTSTART;TZID=America/New_York:20251012T150000
DTEND;TZID=America/New_York:20251012T170000
DTSTAMP:20260419T123426
CREATED:20241217T174114Z
LAST-MODIFIED:20241217T174114Z
UID:2885-1760281200-1760288400@hightowertrailbsa.com
SUMMARY:October Eagle Board of Review - 2025
DESCRIPTION:This is the day for Eagle Board of Review (EBOR). Scouts needing their EBOR will have an email sent to them by the District Advancement Chair to let them know which EBOR to attend.\nMake sure to bring: \n\nYour Original Eagle Scout Rank Application (Received a copy of Approved Eagle application from AAC)\nOriginal and two copies of Eagle Project booklet (all three parts and project approval letter from district) with all signature pages signed\nLetters of Recommendation in sealed envelopes via USPS\nScout handbook and complete advancement report\nEagle Scout Statement of Ambitions and Life Goals\nFull Scout uniform including merit badge sash\nTwo members of the troop committee to serve on the Board of Review. Please note that Scoutmaster\, Life to Eagle Advisor or the Scout’s parents or other relatives are not permitted to serve on the Board. The Troop (Committee Chair or Scoutmaster or Life to Eagle Advisor) should recruit members to serve on the review committee. The Scout or his family should not be involved in selecting members for the review committee\nA Scoutmaster or other scout leader who can introduce you to the Board\nA camera\, your family\, Scout smiles and Scout Spirit! You’ve worked hard for this moment!
URL:https://hightowertrailbsa.com/event/october-eagle-board-of-review-2025/
LOCATION:Kingswood UMC\, 4896 N Peachtree Road\, Dunwoody\, GA\, 30338\, United States
ATTACH;FMTTYPE=image/png:https://hightowertrailbsa.com/wp-content/uploads/2024/02/Eagle-patch-insignia-SBBC-e1707249490355.png
END:VEVENT
BEGIN:VEVENT
DTSTART;TZID=America/New_York:20251023T190000
DTEND;TZID=America/New_York:20251023T203000
DTSTAMP:20260419T123426
CREATED:20241031T152822Z
LAST-MODIFIED:20251020T170820Z
UID:2775-1761246000-1761251400@hightowertrailbsa.com
SUMMARY:October Roundtable - 2025
DESCRIPTION:Calling ALL adults! Looking for ways to support your unit that utilize your skills? Let us help you find your purpose in scouting! Please invite ALL of your unit adults – regardless of whether or not they are registered adults. We will discuss volunteer positions at the pack\, troop and district level and match adults with their strengths! Help us help your units! We will also cover volunteer recruiting methods for established leaders!
URL:https://hightowertrailbsa.com/event/october-roundtable-2025/
LOCATION:Chamblee First United Methodist Church\, 4147 Chamblee Dunwoody Road\, Chamblee\, GA\, 30341\, United States
CATEGORIES:Roundtable
ATTACH;FMTTYPE=image/png:https://hightowertrailbsa.com/wp-content/uploads/2024/04/Hightower-Trail-Roundtable-Graphic.png
END:VEVENT
END:VCALENDAR