BEGIN:VCALENDAR
VERSION:2.0
PRODID:-//Hightower Trail District - ECPv6.15.20//NONSGML v1.0//EN
CALSCALE:GREGORIAN
METHOD:PUBLISH
X-ORIGINAL-URL:https://hightowertrailbsa.com
X-WR-CALDESC:Events for Hightower Trail District
REFRESH-INTERVAL;VALUE=DURATION:PT1H
X-Robots-Tag:noindex
X-PUBLISHED-TTL:PT1H
BEGIN:VTIMEZONE
TZID:America/New_York
BEGIN:DAYLIGHT
TZOFFSETFROM:-0500
TZOFFSETTO:-0400
TZNAME:EDT
DTSTART:20240310T070000
END:DAYLIGHT
BEGIN:STANDARD
TZOFFSETFROM:-0400
TZOFFSETTO:-0500
TZNAME:EST
DTSTART:20241103T060000
END:STANDARD
BEGIN:DAYLIGHT
TZOFFSETFROM:-0500
TZOFFSETTO:-0400
TZNAME:EDT
DTSTART:20250309T070000
END:DAYLIGHT
BEGIN:STANDARD
TZOFFSETFROM:-0400
TZOFFSETTO:-0500
TZNAME:EST
DTSTART:20251102T060000
END:STANDARD
BEGIN:DAYLIGHT
TZOFFSETFROM:-0500
TZOFFSETTO:-0400
TZNAME:EDT
DTSTART:20260308T070000
END:DAYLIGHT
BEGIN:STANDARD
TZOFFSETFROM:-0400
TZOFFSETTO:-0500
TZNAME:EST
DTSTART:20261101T060000
END:STANDARD
END:VTIMEZONE
BEGIN:VEVENT
DTSTART;TZID=America/New_York:20250525T160000
DTEND;TZID=America/New_York:20250525T193000
DTSTAMP:20260419T145256
CREATED:20250404T212407Z
LAST-MODIFIED:20250404T212407Z
UID:3039-1748188800-1748201400@hightowertrailbsa.com
SUMMARY:Spring 2025 - Atlanta Braves Scout Day
DESCRIPTION:Meeting Time: 02:30 PM\nMeeting Location: 3rd Base Ramp\, Across from Section 135\n\n\n\nSpring Scout Day at Truist Park\nAll scouts are invited to the annual spring Scout Day at Truist Park. Scout Day is a celebration of area Cub and Boy Scouts. Families & friends are invited to the ballpark as well so everyone can enjoy watching the Braves take on the Padres! There will be an on-field parade with the Scouts prior to the game. \nPatches can be picked up from the Guest Services booth across from Section 111. \nA portion of the tickets will go to support the Scouts \nTickets must be purchased by May 10th\, 2025 by 11:59pm \nParade Instructions: Line up by 2:30pm at the ramp across from Section 135. \nTickets are subject to availability and tickets purchased for the purpose of being resold are subject to cancellation and refund by the Atlanta Braves.
URL:https://hightowertrailbsa.com/event/spring-2025-atlanta-braves-scout-day/
LOCATION:Truist Park\, 755 Battery Ave SE\, Atlanta\, GA\, 30339\, United States
ATTACH;FMTTYPE=image/png:https://hightowertrailbsa.com/wp-content/uploads/2025/04/d7aab554-5801-41fb-8035-bc6a49b8c9fa1.png
END:VEVENT
END:VCALENDAR