BEGIN:VCALENDAR
VERSION:2.0
PRODID:-//Hightower Trail District - ECPv6.15.20//NONSGML v1.0//EN
CALSCALE:GREGORIAN
METHOD:PUBLISH
X-ORIGINAL-URL:https://hightowertrailbsa.com
X-WR-CALDESC:Events for Hightower Trail District
REFRESH-INTERVAL;VALUE=DURATION:PT1H
X-Robots-Tag:noindex
X-PUBLISHED-TTL:PT1H
BEGIN:VTIMEZONE
TZID:America/New_York
BEGIN:DAYLIGHT
TZOFFSETFROM:-0500
TZOFFSETTO:-0400
TZNAME:EDT
DTSTART:20240310T070000
END:DAYLIGHT
BEGIN:STANDARD
TZOFFSETFROM:-0400
TZOFFSETTO:-0500
TZNAME:EST
DTSTART:20241103T060000
END:STANDARD
BEGIN:DAYLIGHT
TZOFFSETFROM:-0500
TZOFFSETTO:-0400
TZNAME:EDT
DTSTART:20250309T070000
END:DAYLIGHT
BEGIN:STANDARD
TZOFFSETFROM:-0400
TZOFFSETTO:-0500
TZNAME:EST
DTSTART:20251102T060000
END:STANDARD
BEGIN:DAYLIGHT
TZOFFSETFROM:-0500
TZOFFSETTO:-0400
TZNAME:EDT
DTSTART:20260308T070000
END:DAYLIGHT
BEGIN:STANDARD
TZOFFSETFROM:-0400
TZOFFSETTO:-0500
TZNAME:EST
DTSTART:20261101T060000
END:STANDARD
END:VTIMEZONE
BEGIN:VEVENT
DTSTART;TZID=America/New_York:20250118T190000
DTEND;TZID=America/New_York:20250118T230000
DTSTAMP:20260419T141205
CREATED:20250109T202804Z
LAST-MODIFIED:20250109T203345Z
UID:2900-1737226800-1737241200@hightowertrailbsa.com
SUMMARY:2025 - Scout Day with the Atlanta Gladiators
DESCRIPTION:Calling all Scouts in the metro Atlanta area! Join the Atlanta Gladiators on Saturday\, January 18th at Gas South Arena for their annual Scout Night hockey match! All Scouts in uniform will receive a Gladiators branded Scout Patch.
URL:https://hightowertrailbsa.com/event/2025-scout-day-with-the-atlanta-gladiators/
LOCATION:Gas South Arena\, 6400 Sugarloaf Parkway\, Duluth\, Georgia\, 30097
ATTACH;FMTTYPE=image/png:https://hightowertrailbsa.com/wp-content/uploads/2025/01/1fcd814f-507e-40e9-965e-e69c08e6764e1.png
END:VEVENT
END:VCALENDAR