BEGIN:VCALENDAR
VERSION:2.0
PRODID:-//Hightower Trail District - ECPv6.15.20//NONSGML v1.0//EN
CALSCALE:GREGORIAN
METHOD:PUBLISH
X-ORIGINAL-URL:https://hightowertrailbsa.com
X-WR-CALDESC:Events for Hightower Trail District
REFRESH-INTERVAL;VALUE=DURATION:PT1H
X-Robots-Tag:noindex
X-PUBLISHED-TTL:PT1H
BEGIN:VTIMEZONE
TZID:America/New_York
BEGIN:DAYLIGHT
TZOFFSETFROM:-0500
TZOFFSETTO:-0400
TZNAME:EDT
DTSTART:20230312T070000
END:DAYLIGHT
BEGIN:STANDARD
TZOFFSETFROM:-0400
TZOFFSETTO:-0500
TZNAME:EST
DTSTART:20231105T060000
END:STANDARD
BEGIN:DAYLIGHT
TZOFFSETFROM:-0500
TZOFFSETTO:-0400
TZNAME:EDT
DTSTART:20240310T070000
END:DAYLIGHT
BEGIN:STANDARD
TZOFFSETFROM:-0400
TZOFFSETTO:-0500
TZNAME:EST
DTSTART:20241103T060000
END:STANDARD
BEGIN:DAYLIGHT
TZOFFSETFROM:-0500
TZOFFSETTO:-0400
TZNAME:EDT
DTSTART:20250309T070000
END:DAYLIGHT
BEGIN:STANDARD
TZOFFSETFROM:-0400
TZOFFSETTO:-0500
TZNAME:EST
DTSTART:20251102T060000
END:STANDARD
END:VTIMEZONE
BEGIN:VEVENT
DTSTART;TZID=America/New_York:20240323T110000
DTEND;TZID=America/New_York:20240323T163000
DTSTAMP:20260422T183244
CREATED:20240315T184427Z
LAST-MODIFIED:20240315T192506Z
UID:1990-1711191600-1711211400@hightowertrailbsa.com
SUMMARY:2024 Entrepreneurship Merit Badge Clinc
DESCRIPTION:Soapstone Ridge District is having a\, one day\, Entrepreneurship Merit Badge Clinc. Come and learn about identifying opportunities\, creating and evaluating business ideas\, and exploring the feasibility of an idea for a new business. Led by business owners who will share their real-world experiences. \n \nRegister for Event
URL:https://hightowertrailbsa.com/event/2024-entrepreneurship-merit-badge-clinc/
LOCATION:New Black Wall Street Market\, 8109 Mall Parkway\, Stonecrest\, GA\, 30038\, United States
ATTACH;FMTTYPE=image/png:https://hightowertrailbsa.com/wp-content/uploads/2024/03/Entrepreneurship-merit-badge.png
END:VEVENT
END:VCALENDAR